BEGIN:VCALENDAR
PRODID:NingEventWidget-v1
VERSION:2.0
METHOD:PUBLISH
BEGIN:VTIMEZONE
TZID:Pacific/Midway
X-LIC-LOCATION:Pacific/Midway
BEGIN:STANDARD
TZOFFSETFROM:-1100
TZOFFSETTO:-1100
TZNAME:SST
DTSTART:19700101T000000
END:STANDARD
END:VTIMEZONE
BEGIN:VEVENT
UID:5385115:Event:182890
DTSTAMP:20260422T152209Z
SUMMARY:Science Ouverte au Sud : Enjeux et perspectives pour une nouve
 lle dynamique
DESCRIPTION:A destination des professionnels de l’information, des 
 représentants d’institutions de recherche, des organisations charg
 es de politiques de recherche, et des chercheurs eux-mêmes souhaitan
 t partager leurs données et leurs publications, ce colloque vise à f
 aciliter le dialogue entre toutes les parties prenantes sur les enjeux
  de la science ouverte. Il présentera des politiques d’incitations 
 nationales, régionales, internationales ou locales ainsi que des reto
 urs d’expériences et des cas pratiques pour encourager ou insuffler
  des dynamiques nouvelles en faveur de la science ouverte.\nIl se foca
 lisera tout particulièrement sur la recherche dans les pays francopho
 nes du Sud autour des sessions suivantes : ● Enjeux de la Science ou
 verte au Sud et dans les pays francophones du Sud ● Mouvement de la 
 science ouverte : état des lieux et politiques ● Comment faire de l
 a science ouverte ? : méthodologie et outils ● Retours d’expérie
 nces.\n Ce colloque est coorganisé par l’IRD, le CIRAD et l’Unive
 rsité Cheikh Anta Diop. Le colloque fait partie des manifestations du
  75 eme anniversaire de l'IRD. Il a reçu le patronage de l'Unesco.\n\
 nFor more information visit http://legacy.openaccessweek.org/events/sc
 ience-ouverte-au-sud-enjeux-et-prspetives-pour-une-nouvelle
DTSTART;TZID=Pacific/Midway:20191023T000000
DTEND;TZID=Pacific/Midway:20191025T235900
CATEGORIES:international, conference
LOCATION:Senegal
WEBSITE:https://opensciencesud.sciencesconf.org/
URL:https://opensciencesud.sciencesconf.org/
CONTACT:
ORGANIZER:UCAD , IRD, CIRAD
ATTACH;FMTTYPE="image/jpeg":https://storage.ning.com/topology/rest/1.0
 /file/get/3557857569?profile=original
ATTENDEE;ROLE=REQ-PARTICIPANT;PARTSTAT=ACCEPTED;RSVP=TRUE;CN="Pascal M
 ichel":http://legacy.openaccessweek.org/profile/PascalMichel
END:VEVENT
END:VCALENDAR
