BEGIN:VCALENDAR
PRODID:NingEventWidget-v1
VERSION:2.0
METHOD:PUBLISH
BEGIN:VTIMEZONE
TZID:Pacific/Midway
X-LIC-LOCATION:Pacific/Midway
BEGIN:STANDARD
TZOFFSETFROM:-1100
TZOFFSETTO:-1100
TZNAME:SST
DTSTART:19700101T000000
END:STANDARD
END:VTIMEZONE
BEGIN:VEVENT
UID:5385115:Event:8310
DTSTAMP:20260423T085617Z
SUMMARY:Science 2.0 – practical aspects of the internet revolution
DESCRIPTION:Part 1 – communication, collaboration, visibility\n\nNew
  communications channels (blogs, microblogs, aggregators, virtual\ncon
 ferences and poster sessions) and examples of successful applying\nin 
 science. New roles of blogs, Research Blogging initiative. Wikis,\nEth
 erpad and Google Documents/Wave – platforms for document\nco-writing
 . Collaboration for programmers, Git. Visibility and\nrecognition in t
 he internets: StackOverflow and ResearcherID.\n\nPart 2 – practical 
 open science\n\nSpectrum of openness in science. Community annotation 
 of\ngenes/proteins/structures and why these aren’t so successful.\nC
 rowdsourcing and citizen-science. Overview of open data repositories,\
 nfocusing on open data coming from pharma industry. Mechanisms of Open
 \nAccess and Open Notebook Science. Current discussions on intellectua
 l\nproperty – what’s not protected and what’s not licensable? Pu
 blic\ndomain. Data citation. Openness vs metrics of academic effective
 ness.\n\nPart 3 – searching for information and literature managemen
 t\n\nInformation overflow – myth or fact? Searching for information 
 –\ndifferences between PubMed and Google Scholar. Semantic analysis 
 of\nabstracts based on GoPubMed and NovoSeek. Targeted text-mining too
 ls.\nLiterature management: online (Connotea, CiteULike) and desktop\n
 (Zotero, Mendeley) approaches. Alternatives for EndNote. Automated or\
 nnot – literature recommendations. Web-based lab notebooks.\n\nFor m
 ore information visit http://legacy.openaccessweek.org/events/science-
 20-practical-aspects
DTSTART;TZID=Pacific/Midway:20101018T100000
DTEND;TZID=Pacific/Midway:20101108T190000
CATEGORIES:seminar
LOCATION:Hall E of Instytutu Biochemii i Biofizyki PAN
WEBSITE:http://naukaotwarta.wordpress.com/2010/09/29/nauka-2-0-wyklady
 -dla-doktorantow-na-kampusie-ochota/
URL:http://naukaotwarta.wordpress.com/2010/09/29/nauka-2-0-wyklady-dla
 -doktorantow-na-kampusie-ochota/
CONTACT:
ORGANIZER:Paweł Szczęsny
ATTACH;FMTTYPE="image/jpeg":
ATTENDEE;ROLE=REQ-PARTICIPANT;PARTSTAT=ACCEPTED;RSVP=TRUE;CN="Bożena 
 Bednarek-Michalska":http://legacy.openaccessweek.org/profile/BozenaBed
 narekMichalska
END:VEVENT
END:VCALENDAR
