BEGIN:VCALENDAR
PRODID:NingEventWidget-v1
VERSION:2.0
METHOD:PUBLISH
BEGIN:VTIMEZONE
TZID:Pacific/Midway
X-LIC-LOCATION:Pacific/Midway
BEGIN:STANDARD
TZOFFSETFROM:-1100
TZOFFSETTO:-1100
TZNAME:SST
DTSTART:19700101T000000
END:STANDARD
END:VTIMEZONE
BEGIN:VEVENT
UID:5385115:Event:149161
DTSTAMP:20260425T050753Z
SUMMARY:Conferencia: \"Revistas de Acceso Abierto en América Latina\"
DESCRIPTION:En el marco de la Semana Internacional de Acceso Abierto, 
 el Instituto de Investigaciones sobre la Universidad y la Educación 
 realiza una conferencia magistral a cargo de la Dra. Ana María Cetto 
 Kramis (Instituto de Física, UNAM), sobre “Revistas de Acceso Abier
 to en América Latina”, el 24 de octubre a las 17:00, en el Centro 
 Cultural Universitario.\n\nFor more information visit http://legacy.op
 enaccessweek.org/events/revistas-de-acceso-abierto-en-am-rica-latina
DTSTART;TZID=Pacific/Midway:20161024T170000
DTEND;TZID=Pacific/Midway:20161024T190000
CATEGORIES:conference
LOCATION:Mexico
WEBSITE:http://www.iisue.unam.mx/boletin/?p=4328
URL:http://www.iisue.unam.mx/boletin/?p=4328
CONTACT:Informes: 5622-6986 ext. 2438, 2450 y 2503  difusion_iisue@una
 m.mx
ORGANIZER:Instituto de Investigaciones sobre la Universidad y la Educa
 ción, UNAM
ATTACH;FMTTYPE="image/jpeg":http://storage.ning.com/topology/rest/1.0/
 file/get/3057583579?profile=original
ATTENDEE;ROLE=REQ-PARTICIPANT;PARTSTAT=ACCEPTED;RSVP=TRUE;CN="Toda la 
 UNAM en Línea":http://legacy.openaccessweek.org/profile/TodalaUNAMenL
 inea
END:VEVENT
END:VCALENDAR
