BEGIN:VCALENDAR
PRODID:NingEventWidget-v1
VERSION:2.0
METHOD:PUBLISH
BEGIN:VTIMEZONE
TZID:Pacific/Midway
X-LIC-LOCATION:Pacific/Midway
BEGIN:STANDARD
TZOFFSETFROM:-1100
TZOFFSETTO:-1100
TZNAME:SST
DTSTART:19700101T000000
END:STANDARD
END:VTIMEZONE
BEGIN:VEVENT
UID:5385115:Event:172362
DTSTAMP:20260420T081221Z
SUMMARY:Research Impact: Enhance the Visibility and Impact of Your Wor
 k
DESCRIPTION:How do you maximize your research impact?   Join us to l
 earn how to establish and monitor your scholarly presence, utilize str
 ategies for optimizing dissemination and discoverability, and how to t
 rack the impact of your work. \nAs part of our Open Access Week progr
 amming, this workshop will help us make our systems for producing and 
 distributing knowledge more inclusive and open.\n\nFor more informatio
 n visit http://legacy.openaccessweek.org/events/research-impact-enhanc
 e-the-visibility-and-impact-of-your-work
DTSTART;TZID=Pacific/Midway:20181023T121500
DTEND;TZID=Pacific/Midway:20181023T131500
CATEGORIES:workshop
LOCATION:United States of America
WEBSITE:https://www.dartmouth.edu/~library/schcomm/
URL:https://www.dartmouth.edu/~library/schcomm/
CONTACT:
ORGANIZER:Open Dartmouth Working Group
ATTACH;FMTTYPE="image/jpeg":http://storage.ning.com/topology/rest/1.0/
 file/get/3057618203?profile=original
ATTENDEE;ROLE=REQ-PARTICIPANT;PARTSTAT=ACCEPTED;RSVP=TRUE;CN="Jen Gree
 n":http://legacy.openaccessweek.org/profile/JenGreen
END:VEVENT
END:VCALENDAR
