BEGIN:VCALENDAR
PRODID:NingEventWidget-v1
VERSION:2.0
METHOD:PUBLISH
BEGIN:VTIMEZONE
TZID:Pacific/Midway
X-LIC-LOCATION:Pacific/Midway
BEGIN:STANDARD
TZOFFSETFROM:-1100
TZOFFSETTO:-1100
TZNAME:SST
DTSTART:19700101T000000
END:STANDARD
END:VTIMEZONE
BEGIN:VEVENT
UID:5385115:Event:115601
DTSTAMP:20260420T114334Z
SUMMARY:Repositorios documentales: Preservando digitalmente el conocim
 iento
DESCRIPTION:Conferencia que será ofrecida por el Sr. José Oliveras, 
 de la UPR en Utuado.\nUna mirada al trabajo de preservación digital d
 e documentos y su exposición mediante los repositorios documentales. 
 Una perspectiva técnica enfocada en plataformas, formatos y herramien
 tas tecnológicas.\nSi desea recibir un certificado de horas contacto,
  escriba su nombre y correo electrónico en la sesión de chat del web
 inar.\n\nFor more information visit http://legacy.openaccessweek.org/e
 vents/repositorios-documentales-preservando-digitalmente-el
DTSTART;TZID=Pacific/Midway:20141024T140000
DTEND;TZID=Pacific/Midway:20141024T150000
CATEGORIES:conferencia
LOCATION:En línea
WEBSITE:
URL:
CONTACT:
ORGANIZER;CN="Pura Centeno":http://legacy.openaccessweek.org/profile/P
 uraCenteno
ATTACH;FMTTYPE="image/jpeg":
ATTENDEE;ROLE=REQ-PARTICIPANT;PARTSTAT=ACCEPTED;RSVP=TRUE;CN="Pura Cen
 teno":http://legacy.openaccessweek.org/profile/PuraCenteno
END:VEVENT
END:VCALENDAR
