BEGIN:VCALENDAR
PRODID:NingEventWidget-v1
VERSION:2.0
METHOD:PUBLISH
BEGIN:VTIMEZONE
TZID:Pacific/Midway
X-LIC-LOCATION:Pacific/Midway
BEGIN:STANDARD
TZOFFSETFROM:-1100
TZOFFSETTO:-1100
TZNAME:SST
DTSTART:19700101T000000
END:STANDARD
END:VTIMEZONE
BEGIN:VEVENT
UID:5385115:Event:138055
DTSTAMP:20260420T131525Z
SUMMARY:Repositorio Arias Montano e identificador ORCID para investiga
 dores UHU
DESCRIPTION:Buscando la mayor interoperabilidad, se ha insertado ORCID
  en el Repositorio Institucional Científico Arias Montano . De esta m
 anera el repositorio de la UHU pretende ser también canal de comunica
 ción del ORCID de los autores institucionales y contribuir a la mejor
  identificación, difusión y visibilidad de los mismos, así como a l
 a correcta codificación de la afiliación institucional.\n\nFor more 
 information visit http://legacy.openaccessweek.org/events/repositorio-
 arias-montano-e-identificador-orcid-para
DTSTART;TZID=Pacific/Midway:20151019T180000
DTEND;TZID=Pacific/Midway:20151025T190000
CATEGORIES:mejoras, repositorio, en, semana, de, acceso, abierto
LOCATION:Spain
WEBSITE:http://www.uhu.es/biblioteca/tablon/2015/OrcidenAriasMontano.h
 tml
URL:http://www.uhu.es/biblioteca/tablon/2015/OrcidenAriasMontano.html
CONTACT:
ORGANIZER;CN="Repositorio Arias Montano. UHU":http://legacy.openaccess
 week.org/profile/RepositorioAriasMontanoUHU
ATTACH;FMTTYPE="image/jpeg":http://storage.ning.com/topology/rest/1.0/
 file/get/3057524447?profile=original
ATTENDEE;ROLE=REQ-PARTICIPANT;PARTSTAT=ACCEPTED;RSVP=TRUE;CN="Reposito
 rio Arias Montano. UHU":http://legacy.openaccessweek.org/profile/Repos
 itorioAriasMontanoUHU
END:VEVENT
END:VCALENDAR
