BEGIN:VCALENDAR
PRODID:NingEventWidget-v1
VERSION:2.0
METHOD:PUBLISH
BEGIN:VTIMEZONE
TZID:Pacific/Midway
X-LIC-LOCATION:Pacific/Midway
BEGIN:STANDARD
TZOFFSETFROM:-1100
TZOFFSETTO:-1100
TZNAME:SST
DTSTART:19700101T000000
END:STANDARD
END:VTIMEZONE
BEGIN:VEVENT
UID:5385115:Event:138408
DTSTAMP:20260421T011849Z
SUMMARY:Register for an ORCID ID and Talk to Us About Open Access
DESCRIPTION:If you are considering a career in academia or simply wish
  to make your publications easier for potential employers to find, you
  will benefit from registering for a free ORCID account. ORCID stands 
 for Open Researcher and Contributor ID (http://orcid.org/content/initi
 ative).\nWhat does it do exactly? ORCID creates a unique and persisten
 t identifier for you as a researcher and author. It helps make your re
 search/publications easier to find and distinguishes you from other au
 thors who share your name.\nOn October 20-23, stop by the OA Week Tabl
 e on the first floor of Randall and a librarian will help you sign up 
 for an account. It will only take a few minutes of your time. Even if 
 you are not interested in ORCID at this time, stop by for an Open Acce
 ss cookie, pick up information about OA, and bring your questions and 
 opinions on open access. We want to hear what you think!\nTuesday, 20 
 Oct. and Thursday, 22 Oct: 1-3 pm ET\nWednes. 21 Oct. and Friday, 23 O
 ct. 10-12 am ET\n\nFor more information visit http://legacy.openaccess
 week.org/events/register-for-an-orcid-id-and-talk-to-us-about-open-acc
 ess
DTSTART;TZID=Pacific/Midway:20151020T000000
DTEND;TZID=Pacific/Midway:20151023T235900
CATEGORIES:table
LOCATION:15
WEBSITE:http://library.uncw.edu/
URL:http://library.uncw.edu/
CONTACT:
ORGANIZER:Holley Long
ATTACH;FMTTYPE="image/jpeg":http://storage.ning.com/topology/rest/1.0/
 file/get/3057568265?profile=original
ATTENDEE;ROLE=REQ-PARTICIPANT;PARTSTAT=ACCEPTED;RSVP=TRUE;CN="Adina Ri
 ggins":http://legacy.openaccessweek.org/profile/AdinaRiggins
END:VEVENT
END:VCALENDAR
