BEGIN:VCALENDAR
PRODID:NingEventWidget-v1
VERSION:2.0
METHOD:PUBLISH
BEGIN:VTIMEZONE
TZID:Pacific/Midway
X-LIC-LOCATION:Pacific/Midway
BEGIN:STANDARD
TZOFFSETFROM:-1100
TZOFFSETTO:-1100
TZNAME:SST
DTSTART:19700101T000000
END:STANDARD
END:VTIMEZONE
BEGIN:VEVENT
UID:5385115:Event:137729
DTSTAMP:20260422T165953Z
SUMMARY:Reflexiones sobre la investigación abierta: Abiertos a la Col
 aboración
DESCRIPTION:En el marco de la Semana Internacional de Acceso Abierto 2
 015 (#OAWeek) a celebrarse en su octava edición del 19 al 25 de octu
 bre bajo el tema “Open for collaboration”, el Programa de Doctorad
 o en Formación en la Sociedad del Conocimiento (#phdknowledgesociety)
  se suma a los eventos de promoción e impulso que buscan dar a conoc
 er entre la comunidad académica y científica los beneficios y el imp
 acto que el acceso abierto a la producción y comunicación académica
  y científica puede llegar a generar.\nPor tal motivo, y atendiendo e
 l tema de este año “Abiertos a la Colaboración” se ha organizado
  un Seminario de Reflexión el cual tiene por objetivo que los estudia
 ntes del #phdknowledgesociety debatan sobre la apertura que como inves
 tigadores tienen con respecto a realizar investigación en abierto.\nE
 l Seminario tendrá como punto de referencia los contenidos desarrolla
 dos por el OER Research Hub para su Curso Open Research 2015 (V.2), a
 sí como las experiencias que vivió el estudiante del #phdknowledgeso
 ciety y compañeroMartin Tena Espinoza como participante de dicho curs
 o.\nAgradecemos a los investigadores del OER Research Hub Bea de los A
 rcos, Rob Farrow and Beck Pitt y la Project Manager Natalie Egglesto
 n por permitirnos emplear los contenidos y materiales que ellos dise
 aron.\n\nFor more information visit http://legacy.openaccessweek.org/
 events/reflexiones-sobre-la-investigaci-n-abierta-abiertos-a-la
DTSTART;TZID=Pacific/Midway:20151022T110000
DTEND;TZID=Pacific/Midway:20151023T110000
CATEGORIES:workshop
LOCATION:Spain
WEBSITE:http://knowledgesociety.usal.es/
URL:http://knowledgesociety.usal.es/
CONTACT:+34 923294634
ORGANIZER:Programa de Doctorado en Formación en la Sociedad del Conoc
 imiento del Instituto Universitario de Investigación en Ciencias de l
 a Educación (IUCE) de la Universidad de Salamanca (USAL)
ATTACH;FMTTYPE="image/jpeg":http://storage.ning.com/topology/rest/1.0/
 file/get/3057571319?profile=original
ATTENDEE;ROLE=REQ-PARTICIPANT;PARTSTAT=ACCEPTED;RSVP=TRUE;CN="Martin T
 ena Espinoza":http://legacy.openaccessweek.org/profile/MartinTenaEspin
 oza
END:VEVENT
END:VCALENDAR
