BEGIN:VCALENDAR
PRODID:NingEventWidget-v1
VERSION:2.0
METHOD:PUBLISH
BEGIN:VTIMEZONE
TZID:Pacific/Midway
X-LIC-LOCATION:Pacific/Midway
BEGIN:STANDARD
TZOFFSETFROM:-1100
TZOFFSETTO:-1100
TZNAME:SST
DTSTART:19700101T000000
END:STANDARD
END:VTIMEZONE
BEGIN:VEVENT
UID:5385115:Event:101675
DTSTAMP:20260425T160613Z
SUMMARY:Recerca en obert: Mites, incerteses i realitats
DESCRIPTION:En els darrers anys ha augmentat el nombre de revistes que
  s'autodenominen d'accés obert però, què significa accés obert? N'
 hi ha prou a oferir el text complet de manera gratuïta o cal oferir a
 lguna cosa més? Totes les revistes d'accés obert demanen diners per 
 publicar? I les revistes amb accés per subscripció, com estan incorp
 orant l'accés obert? Com a investigadors, com ens afecten les políti
 ques institucionals, estatals o internacionals que pretenen afavorir l
 'accés obert? \nL’Institut d’Investigacions Biomèdiques August 
 Pi i Sunyer (IDIBAPS) i la Universitat de Barcelona (UB) es complauen 
 a convidar-vos a la conferència “Recerca en obert: Mites, incertese
 s i realitats”, programada dins el marc de la Setmana Internacional 
 de l’Accés Obert 2013.\nL’acte anirà a càrrec del Dr. Ignasi La
 bastida, i és obert a investigadors i professionals dedicats a la ges
 tió i suport de la recerca.\n\nFor more information visit http://lega
 cy.openaccessweek.org/events/recerca-en-obert-mites-incerteses-i-reali
 tats
DTSTART;TZID=Pacific/Midway:20131022T150000
DTEND;TZID=Pacific/Midway:20131022T163000
CATEGORIES:conference
LOCATION:IDIBAPS-CEK Building
WEBSITE:http://www.idibaps.org/media/upload/pdf/recerca_en_obert_idiba
 ps_ub_editora_10_505_1.pdf
URL:http://www.idibaps.org/media/upload/pdf/recerca_en_obert_idibaps_u
 b_editora_10_505_1.pdf
CONTACT:
ORGANIZER:IDIBAPS-UB
ATTACH;FMTTYPE="image/jpeg":http://storage.ning.com/topology/rest/1.0/
 file/get/3057510331?profile=original
ATTENDEE;ROLE=REQ-PARTICIPANT;PARTSTAT=ACCEPTED;RSVP=TRUE;CN="Ignasi L
 abastida":http://legacy.openaccessweek.org/profile/IgnasiLabastida
ATTENDEE;ROLE=REQ-PARTICIPANT;PARTSTAT=ACCEPTED;RSVP=TRUE;CN="Marta Vi
 dal":http://legacy.openaccessweek.org/profile/MartaVidalRodriguez
END:VEVENT
END:VCALENDAR
