BEGIN:VCALENDAR
PRODID:NingEventWidget-v1
VERSION:2.0
METHOD:PUBLISH
BEGIN:VTIMEZONE
TZID:Pacific/Midway
X-LIC-LOCATION:Pacific/Midway
BEGIN:STANDARD
TZOFFSETFROM:-1100
TZOFFSETTO:-1100
TZNAME:SST
DTSTART:19700101T000000
END:STANDARD
END:VTIMEZONE
BEGIN:VEVENT
UID:5385115:Event:101449
DTSTAMP:20260421T113426Z
SUMMARY:REBIUN: Red de Bibliotecas universitarias
DESCRIPTION:The Spanish Academic Libraries Network (REBIUN) participa
 tes in the International Open Access Week and coordinates the realizat
 ion of accesoabierto.info, platform news and resources on open access 
 to scientific production and digital heritage.\n\n\nFor more informati
 on visit http://legacy.openaccessweek.org/events/rebiun-red-de-bibliot
 ecas-universitarias
DTSTART;TZID=Pacific/Midway:20131015T180000
DTEND;TZID=Pacific/Midway:20131031T190000
CATEGORIES:news, resources, platform
LOCATION:Internet
WEBSITE:http://accesoabierto.info/
URL:http://accesoabierto.info/
CONTACT:
ORGANIZER;CN=REBIUN:http://legacy.openaccessweek.org/profile/REBIUN
ATTACH;FMTTYPE="image/jpeg":http://storage.ning.com/topology/rest/1.0/
 file/get/3057524491?profile=original
ATTENDEE;ROLE=REQ-PARTICIPANT;PARTSTAT=ACCEPTED;RSVP=TRUE;CN=SocialBib
 lio:http://legacy.openaccessweek.org/profile/SocialBiblio
ATTENDEE;ROLE=REQ-PARTICIPANT;PARTSTAT=ACCEPTED;RSVP=TRUE;CN=REBIUN:ht
 tp://legacy.openaccessweek.org/profile/REBIUN
END:VEVENT
END:VCALENDAR
