BEGIN:VCALENDAR
PRODID:NingEventWidget-v1
VERSION:2.0
METHOD:PUBLISH
BEGIN:VTIMEZONE
TZID:Pacific/Midway
X-LIC-LOCATION:Pacific/Midway
BEGIN:STANDARD
TZOFFSETFROM:-1100
TZOFFSETTO:-1100
TZNAME:SST
DTSTART:19700101T000000
END:STANDARD
END:VTIMEZONE
BEGIN:VEVENT
UID:5385115:Event:5416
DTSTAMP:20260424T065149Z
SUMMARY:Radical Open Access in the Humanities
DESCRIPTION:Gary Hall, professor of Performance Studies at Coventry Un
 iversity and co-founder of the Open Humanities Press and Culture Machi
 ne, an open-access journal, will present.\n\nCosponsored by the School
  of the Arts and the Graduate School of Arts and Sciences.\n\nFor more
  information visit http://legacy.openaccessweek.org/events/radical-ope
 n-access-in-the
DTSTART;TZID=Pacific/Midway:20101018T123000
DTEND;TZID=Pacific/Midway:20101018T143000
CATEGORIES:lecture
LOCATION:555 Alfred Lerner Hall, Morningside Campus
WEBSITE:
URL:
CONTACT:
ORGANIZER;CN="Nicole Bufanio":http://legacy.openaccessweek.org/profile
 /NicoleBufanio
ATTACH;FMTTYPE="image/jpeg":
ATTENDEE;ROLE=REQ-PARTICIPANT;PARTSTAT=ACCEPTED;RSVP=TRUE;CN="Nicole B
 ufanio":http://legacy.openaccessweek.org/profile/NicoleBufanio
END:VEVENT
END:VCALENDAR
