BEGIN:VCALENDAR
PRODID:NingEventWidget-v1
VERSION:2.0
METHOD:PUBLISH
BEGIN:VTIMEZONE
TZID:Pacific/Midway
X-LIC-LOCATION:Pacific/Midway
BEGIN:STANDARD
TZOFFSETFROM:-1100
TZOFFSETTO:-1100
TZNAME:SST
DTSTART:19700101T000000
END:STANDARD
END:VTIMEZONE
BEGIN:VEVENT
UID:5385115:Event:101219
DTSTAMP:20260423T003452Z
SUMMARY:Quali politiche per l'accesso aperto in Italia?
DESCRIPTION:Ten years after the Berlin declaration, the University of 
 Trieste presents its brand new Open Access policy and hostsÂ aÂ panelÂ
  discussionÂ on the state of the art of Open Access in Italy.\nPoster\
 n\nFor more information visit http://legacy.openaccessweek.org/events/
 quali-politiche-per-l-accesso-aperto-in-italia
DTSTART;TZID=Pacific/Midway:20131023T110000
DTEND;TZID=Pacific/Midway:20131023T130000
CATEGORIES:roundtable
LOCATION:Campus di Piazzale Europa
WEBSITE:http://goo.gl/maps/bUKVH
URL:http://goo.gl/maps/bUKVH
CONTACT:
ORGANIZER;CN="Stefania Arabito":http://legacy.openaccessweek.org/profi
 le/StefaniaArabito139
ATTACH;FMTTYPE="image/jpeg":http://storage.ning.com/topology/rest/1.0/
 file/get/3057524980?profile=original
ATTENDEE;ROLE=REQ-PARTICIPANT;PARTSTAT=ACCEPTED;RSVP=TRUE;CN="Stefania
  Arabito":http://legacy.openaccessweek.org/profile/StefaniaArabito139
END:VEVENT
END:VCALENDAR
