BEGIN:VCALENDAR
PRODID:NingEventWidget-v1
VERSION:2.0
METHOD:PUBLISH
BEGIN:VTIMEZONE
TZID:Pacific/Midway
X-LIC-LOCATION:Pacific/Midway
BEGIN:STANDARD
TZOFFSETFROM:-1100
TZOFFSETTO:-1100
TZNAME:SST
DTSTART:19700101T000000
END:STANDARD
END:VTIMEZONE
BEGIN:VEVENT
UID:5385115:Event:116033
DTSTAMP:20260423T220654Z
SUMMARY:Qué es Acceso Abierto/What is Open Access (in Venezuelan Law)
DESCRIPTION:(Spanish)\n\nQué es Acceso AbiertoLa ley de Infogobierno 
 Venezolana, que entró en vigencia hace poco, dice [1] \"Artículo 5: 
 [..] •Acceso abierto: Característica de los documentos públicos qu
 e se refiere a su disponibilidad gratuita en la Internet pública, que
  permite a cualquier usuario leer, descargar, copiar, distribuir, impr
 imir, buscar o añadir un enlace al texto completo de esos artículos,
  rastrearlos para su indización, incorporarlos como datos en un softw
 are, o utilizarlos para cualquier otro propósito que sea legal, sin b
 arreras financieras, legales o técnicas, aparte de las que son insepa
 rables del acceso mismo a la Internet. La única limitación en cuanto
  a reproducción y distribución, y el único papel del copyright (los
  derechos patrimoniales) en este ámbito, debería ser la de dar a los
  autores el control sobre la integridad de sus trabajos y el derecho a
  ser adecuadamente reconocidos y citados.\"Proponemos analizar esta de
 finición en la charla y ubicarla en el contexto del activismo global 
 por restaurar las condiciones de y para la ciencia libre en todo el mu
 ndo. \n\nFor more information visit http://legacy.openaccessweek.org/e
 vents/qu-es-acceso-abierto-what-is-open-access-in-venezuelan-law
DTSTART;TZID=Pacific/Midway:20141014T160000
DTEND;TZID=Pacific/Midway:20141014T170000
CATEGORIES:preparatory, talk
LOCATION:Universidad de Los Andes, Venezuela. Ingeniería, CESIMO
WEBSITE:https://www.google.co.ve/maps/place/Facultad+de+Ingenier%C3%AD
 a.+ULA/@8.6293321,-71.1877278,13z/data=!4m17!1m14!4m13!1m5!1m1!1s0x0:0
 x8cbce622a5461378!2m2!1d-71.150734!2d8.629249!1m6!1m2!1s0x8e6480d6d3d6
 abe7:0x8cbce622a5461378!2sFacultad+de+Ingenier%C3%ADa.+ULA,+Av.+Albert
 o+Carnevalli,+La+Hechicera,+N%C3%BAcleo+Universitario+Pedro+Rinc%C3%B3
 n+Guti%C3%A9rrez,+Edificio+B.,+La+Hechicera,+M%C3%A9rida+5101!2m2!1d-7
 1.150734!2d8.629249!3m1!1s0x8e6480d6d3d6abe7:0x8cbce622a5461378?hl=es
URL:https://www.google.co.ve/maps/place/Facultad+de+Ingenier%C3%ADa.+U
 LA/@8.6293321,-71.1877278,13z/data=!4m17!1m14!4m13!1m5!1m1!1s0x0:0x8cb
 ce622a5461378!2m2!1d-71.150734!2d8.629249!1m6!1m2!1s0x8e6480d6d3d6abe7
 :0x8cbce622a5461378!2sFacultad+de+Ingenier%C3%ADa.+ULA,+Av.+Alberto+Ca
 rnevalli,+La+Hechicera,+N%C3%BAcleo+Universitario+Pedro+Rinc%C3%B3n+Gu
 ti%C3%A9rrez,+Edificio+B.,+La+Hechicera,+M%C3%A9rida+5101!2m2!1d-71.15
 0734!2d8.629249!3m1!1s0x8e6480d6d3d6abe7:0x8cbce622a5461378?hl=es
CONTACT:
ORGANIZER;CN="Jacinto Dávila":http://legacy.openaccessweek.org/profil
 e/JacintoDavila
ATTACH;FMTTYPE="image/jpeg":
ATTENDEE;ROLE=REQ-PARTICIPANT;PARTSTAT=ACCEPTED;RSVP=TRUE;CN="Jacinto 
 Dávila":http://legacy.openaccessweek.org/profile/JacintoDavila
END:VEVENT
END:VCALENDAR
