BEGIN:VCALENDAR
PRODID:NingEventWidget-v1
VERSION:2.0
METHOD:PUBLISH
BEGIN:VTIMEZONE
TZID:Pacific/Midway
X-LIC-LOCATION:Pacific/Midway
BEGIN:STANDARD
TZOFFSETFROM:-1100
TZOFFSETTO:-1100
TZNAME:SST
DTSTART:19700101T000000
END:STANDARD
END:VTIMEZONE
BEGIN:VEVENT
UID:5385115:Event:136067
DTSTAMP:20260421T031753Z
SUMMARY:Publishing with Open Access
DESCRIPTION:Invitation to an event in the Open Access Week 2015 for st
 udents, doctoral students, young scientists, professors, librarians an
 d others:\nPublishing with Open Access\nAre you considering publishing
  with Open Access? Learn how to get financial support from the Univers
 ity of Zurich & how to publish with an Open Access publisher\nAbstract
 : When publishing articles, your own thesis, book chapters, a monograp
 h or any other kind of work you have a lot of possibilities to do so. 
 How can your publications be disseminated and read and cited as widely
  as possible? What does it mean to publish with Open Access and how ca
 n you publish with Open Access? What costs can occur and how can the U
 niversity of Zurich support you financially? The second part will give
  you insights from the side of an Open Access publisher. Learn how to 
 publish with an Open Access publisher. What is new when publishing wit
 h an Open Access publisher compared to a traditional publisher? The qu
 estions above are relevant for research of all disciplines. With the f
 ollowing presentations we hope to give at least some answers and invit
 e you and your colleagues to join the discussion.\nProgram:\nIntroduct
 ion and Overview Christian Fuhrer, Main Library (Hauptbibliothek), Uni
 versity of Zurich, www.oai.uzh.ch\nHow the Main Library can support yo
 u when publishing with Open Access Margit Kenzian, Main Library (Haupt
 bibliothek), University of Zurich, www.oai.uzh.ch\n20 years of Open Ac
 cess Publishing Maria Schalnich, Communications & Marketing Manager Ma
 rtyn Rittmann, Chief Production Editor MDPI, www.mdpi.com\nPlease see 
 also at http://www.oai.uzh.ch/en/at-the-uzh/events/open-access-week-20
 15 and distribute the information in your organisation.\nSincerely, Ma
 rgit Kenzian and Christian Fuhrer\n\nFor more information visit http:/
 /legacy.openaccessweek.org/events/publishing-with-open-access
DTSTART;TZID=Pacific/Midway:20151020T140000
DTEND;TZID=Pacific/Midway:20151020T160000
CATEGORIES:information, event, about, open, access
LOCATION:Switzerland
WEBSITE:http://www.oai.uzh.ch/de/an-der-uzh/veranstaltungen/open-acces
 s-week-2015
URL:http://www.oai.uzh.ch/de/an-der-uzh/veranstaltungen/open-access-we
 ek-2015
CONTACT:
ORGANIZER:Main Library of the University of Zurich
ATTACH;FMTTYPE="image/jpeg":http://storage.ning.com/topology/rest/1.0/
 file/get/3057566608?profile=original
ATTENDEE;ROLE=REQ-PARTICIPANT;PARTSTAT=ACCEPTED;RSVP=TRUE;CN="MDPI AG"
 :http://legacy.openaccessweek.org/profile/CommsMarketingDepart
ATTENDEE;ROLE=REQ-PARTICIPANT;PARTSTAT=ACCEPTED;RSVP=TRUE;CN="Margit K
 enzian":http://legacy.openaccessweek.org/profile/MargitKenzian
END:VEVENT
END:VCALENDAR
