BEGIN:VCALENDAR
PRODID:NingEventWidget-v1
VERSION:2.0
METHOD:PUBLISH
BEGIN:VTIMEZONE
TZID:Pacific/Midway
X-LIC-LOCATION:Pacific/Midway
BEGIN:STANDARD
TZOFFSETFROM:-1100
TZOFFSETTO:-1100
TZNAME:SST
DTSTART:19700101T000000
END:STANDARD
END:VTIMEZONE
BEGIN:VEVENT
UID:5385115:Event:100235
DTSTAMP:20260419T041451Z
SUMMARY:Publishing Open Access with IEEE
DESCRIPTION:Open Access (OA) publishing is steadily changing the schol
 arly research landscape. While OA has made it easier for the public to
  access the latest scientific and technical research for free, the pro
 cess and choices for authors may feel more complex. This webinar will 
 answer your questions on things like licensing, journal integrity, imp
 act factor, and how to reach established audiences within relevant tec
 hnical communities.\nWatch Karen Hawkins – IEEE Senior Director, Pr
 oduct Design, Marketing, Sales & Product Design – as she provides g
 uidance for navigating the many options of OA publishing. Karen Hawkin
 s will explain:\n\nThe benefits of publishing with IEEE\nThe differen
 ce between fully OA journals and those that offer “hybrid” options
 \nThe easy process authors follow when ready to publish with IEEE\n\n
 \nTo register for the event, visit: http://bit.ly/1ailQ5O\n \nFor a
 dditional information about IEEE’s open-access publishing options, p
 lease visit open.ieee.org.\n\nFor more information visit http://legac
 y.openaccessweek.org/events/publishing-open-access-with-ieee
DTSTART;TZID=Pacific/Midway:20131022T100000
DTEND;TZID=Pacific/Midway:20131022T110000
CATEGORIES:webinar
LOCATION:Virtual event
WEBSITE:http://bit.ly/1ailQ5O
URL:http://bit.ly/1ailQ5O
CONTACT:
ORGANIZER;CN=IEEE:http://legacy.openaccessweek.org/profile/IEEE
ATTACH;FMTTYPE="image/jpeg":http://storage.ning.com/topology/rest/1.0/
 file/get/3057523793?profile=original
ATTENDEE;ROLE=REQ-PARTICIPANT;PARTSTAT=ACCEPTED;RSVP=TRUE;CN="K. Jane 
 Burpee":http://legacy.openaccessweek.org/profile/KJaneBurpee
ATTENDEE;ROLE=REQ-PARTICIPANT;PARTSTAT=ACCEPTED;RSVP=TRUE;CN=IEEE:http
 ://legacy.openaccessweek.org/profile/IEEE
END:VEVENT
END:VCALENDAR
