BEGIN:VCALENDAR
PRODID:NingEventWidget-v1
VERSION:2.0
METHOD:PUBLISH
BEGIN:VTIMEZONE
TZID:Pacific/Midway
X-LIC-LOCATION:Pacific/Midway
BEGIN:STANDARD
TZOFFSETFROM:-1100
TZOFFSETTO:-1100
TZNAME:SST
DTSTART:19700101T000000
END:STANDARD
END:VTIMEZONE
BEGIN:VEVENT
UID:5385115:Event:136922
DTSTAMP:20260423T001331Z
SUMMARY:Publishers Contracts 101: Copyright and Open Access
DESCRIPTION:Prof Bernard Martin (Dean: Law Faculty) will give a luncht
 ime talk exploring what’s at stake when you sign a publisher’s con
 tract.\nAcceptance of papers by research journals is cause for celebra
 tion.  What happens next is critical for the future dissemination of 
 your paper.\nFACTS:\n\nSigning a publisher’s contract invariably mea
 ns your copyright is transferred (usually off shore)In this way, monop
 oly over your work is handed to publishers\n55% of scholarly publishin
 g market resides in hands of 5 mega-publishers who enjoy profits of 40
 %\nNo university can afford all the journals needed by researchers Mos
 t research is supported by public funding\nFaculty supply journals wit
 h papers and also service them by performing peer review UWC has an op
 en access policy\n\nFIND OUT\n\nHow Taylor & Francis, Elsevier, Spring
 er and Wiley responded to UWC’s Legal Addendum to Publisher Contract
 s\nHow to extend the visibility and standing of UWC through the UWC Re
 search Repository\n\nINTERNATIONAL OPEN ACCESS WEEK:  Wednesday 21 Oc
 tober at 1pm (light refreshments from 12:45)Chemistry Building, Room 3
 .8.2\n\nFor more information visit http://legacy.openaccessweek.org/ev
 ents/publishers-contracts-101-copyright-and-open-access
DTSTART;TZID=Pacific/Midway:20151021T130000
DTEND;TZID=Pacific/Midway:20151021T140000
CATEGORIES:seminar
LOCATION:South Africa
WEBSITE:http://www.uwc.ac.za
URL:http://www.uwc.ac.za
CONTACT:+27 21 959 2209
ORGANIZER:UWC Library
ATTACH;FMTTYPE="image/jpeg":
ATTENDEE;ROLE=REQ-PARTICIPANT;PARTSTAT=ACCEPTED;RSVP=TRUE;CN="Mark Sny
 ders":http://legacy.openaccessweek.org/profile/MarkSnyders
END:VEVENT
END:VCALENDAR
