BEGIN:VCALENDAR
PRODID:NingEventWidget-v1
VERSION:2.0
METHOD:PUBLISH
BEGIN:VTIMEZONE
TZID:Pacific/Midway
X-LIC-LOCATION:Pacific/Midway
BEGIN:STANDARD
TZOFFSETFROM:-1100
TZOFFSETTO:-1100
TZNAME:SST
DTSTART:19700101T000000
END:STANDARD
END:VTIMEZONE
BEGIN:VEVENT
UID:5385115:Event:50128
DTSTAMP:20260419T073939Z
SUMMARY:Publish Smart, Maximize Impact
DESCRIPTION:Do you have an article you want to publish? Are you trying
  to decide where to place it? This workshop will examine how journals 
 are ranked for impact (including some of the controversies about ranki
 ng systems), and your rights as an author. Are you confused about copy
 right? Do you want to be able to post copies of your article on your o
 wn website? Do you know whether you'll be able to? We will discuss Ber
 keley funding to support open access publishing (http://www.lib.berkel
 ey.edu/brii/), and the movement in academia to make information more a
 ccessible. Not only is open access a social good, it can also be good 
 for you as an author!\n\nFor more information visit http://legacy.open
 accessweek.org/events/publish-smart-maximize-impact
DTSTART;TZID=Pacific/Midway:20111026T160000
DTEND;TZID=Pacific/Midway:20111026T170000
CATEGORIES:seminar
LOCATION:251 Doe Library
WEBSITE:
URL:
CONTACT:
ORGANIZER;CN="Margaret Phillips":http://legacy.openaccessweek.org/prof
 ile/MargaretPhillips
ATTACH;FMTTYPE="image/jpeg":
ATTENDEE;ROLE=REQ-PARTICIPANT;PARTSTAT=ACCEPTED;RSVP=TRUE;CN="Margaret
  Phillips":http://legacy.openaccessweek.org/profile/MargaretPhillips
END:VEVENT
END:VCALENDAR
