BEGIN:VCALENDAR
PRODID:NingEventWidget-v1
VERSION:2.0
METHOD:PUBLISH
BEGIN:VTIMEZONE
TZID:Pacific/Midway
X-LIC-LOCATION:Pacific/Midway
BEGIN:STANDARD
TZOFFSETFROM:-1100
TZOFFSETTO:-1100
TZNAME:SST
DTSTART:19700101T000000
END:STANDARD
END:VTIMEZONE
BEGIN:VEVENT
UID:5385115:Event:51628
DTSTAMP:20260419T124629Z
SUMMARY:Publish! Graduate students discussing their work in publishing
DESCRIPTION:Wednesday, October 26th, 2011 Senate Chamber, N940 Ross Bu
 ilding, 10:30am - 12:00pm\nRefreshments will be served\nJoin our panel
  of six graduate students as they discuss their experiences in publish
 ing. The panelists have a wide range of expertise including working fo
 r a prestigious imprimatur, founding a scholarly journal, publishing p
 oetry, and publishing a thesis as a scholarly article. Ask questions, 
 evaluate strategies, be inspired, and learn how to get involved!\n\nFo
 r more information visit http://legacy.openaccessweek.org/events/publi
 sh-graduate-students-discussing-their-work-in-publishing
DTSTART;TZID=Pacific/Midway:20111026T103000
DTEND;TZID=Pacific/Midway:20111026T120000
CATEGORIES:panel, discussion
LOCATION:Senate Chamber, N940 Ross Building, York University
WEBSITE:http://scholcom.apps01.yorku.ca/drupal/?q=publish2011
URL:http://scholcom.apps01.yorku.ca/drupal/?q=publish2011
CONTACT:
ORGANIZER:The Scholarly Communications Initiative
ATTACH;FMTTYPE="image/jpeg":http://storage.ning.com/topology/rest/1.0/
 file/get/3057483546?profile=original
ATTENDEE;ROLE=REQ-PARTICIPANT;PARTSTAT=ACCEPTED;RSVP=TRUE;CN="Andrea K
 osavic":http://legacy.openaccessweek.org/profile/AndreaKosavic
END:VEVENT
END:VCALENDAR
