BEGIN:VCALENDAR
PRODID:NingEventWidget-v1
VERSION:2.0
METHOD:PUBLISH
BEGIN:VTIMEZONE
TZID:Pacific/Midway
X-LIC-LOCATION:Pacific/Midway
BEGIN:STANDARD
TZOFFSETFROM:-1100
TZOFFSETTO:-1100
TZNAME:SST
DTSTART:19700101T000000
END:STANDARD
END:VTIMEZONE
BEGIN:VEVENT
UID:5385115:Event:203289
DTSTAMP:20260419T103154Z
SUMMARY:Publication strategies as career aid
DESCRIPTION:Isabella Meinecke\n(in German) \nPublications mediate sch
 olarly knowledge. They represent the starting point of certified profe
 ssional communication, and also support to establish a career within a
  scholarly community. The knowledge of publishing conditions and proce
 sses therefore supports successful publication, especially considering
  the demands of Open Access and Open Science.\n\nFor more information 
 visit http://legacy.openaccessweek.org/events/publication-strategies-a
 s-career-aid
DTSTART;TZID=Pacific/Midway:20201019T140000
DTEND;TZID=Pacific/Midway:20201019T143000
CATEGORIES:"coffee lecture"
LOCATION:Germany
WEBSITE:https://blog.sub.uni-hamburg.de/?p=30056
URL:https://blog.sub.uni-hamburg.de/?p=30056
CONTACT:
ORGANIZER;CN="SUB Hamburg Open Science Unit":http://legacy.openaccessw
 eek.org/profile/SUBHamburgOpenAccess
ATTACH;FMTTYPE="image/jpeg":
ATTENDEE;ROLE=REQ-PARTICIPANT;PARTSTAT=ACCEPTED;RSVP=TRUE;CN="SUB Hamb
 urg Open Science Unit":http://legacy.openaccessweek.org/profile/SUBHam
 burgOpenAccess
END:VEVENT
END:VCALENDAR
