BEGIN:VCALENDAR
PRODID:NingEventWidget-v1
VERSION:2.0
METHOD:PUBLISH
BEGIN:VTIMEZONE
TZID:Pacific/Midway
X-LIC-LOCATION:Pacific/Midway
BEGIN:STANDARD
TZOFFSETFROM:-1100
TZOFFSETTO:-1100
TZNAME:SST
DTSTART:19700101T000000
END:STANDARD
END:VTIMEZONE
BEGIN:VEVENT
UID:5385115:Event:50353
DTSTAMP:20260423T140836Z
SUMMARY:Publication Agreements: Going Beyond the Boilerplate for Copyr
 ight and Future Access
DESCRIPTION:In this event, KU Professor Town Peterson, KU General Coun
 sel’s Rachel Rolf, and Ada Emmett will explore publication agreement
 s and the strategies authors can use to retain the rights they need in
  order to provide open access to their scholarly work.\n\nFor more inf
 ormation visit http://legacy.openaccessweek.org/events/publication-agr
 eements-going-beyond-the-boilerplate-for-copyright
DTSTART;TZID=Pacific/Midway:20111025T100000
DTEND;TZID=Pacific/Midway:20111025T110000
CATEGORIES:panel, discussion
LOCATION:University of Kansas, Watson Library, Center for Digital Scho
 larship Conference room 455
WEBSITE:
URL:
CONTACT:
ORGANIZER;CN="Ada Emmett":http://legacy.openaccessweek.org/profile/Ada
 Emmett
ATTACH;FMTTYPE="image/jpeg":
ATTENDEE;ROLE=REQ-PARTICIPANT;PARTSTAT=ACCEPTED;RSVP=TRUE;CN="Ada Emme
 tt":http://legacy.openaccessweek.org/profile/AdaEmmett
END:VEVENT
END:VCALENDAR
