BEGIN:VCALENDAR
PRODID:NingEventWidget-v1
VERSION:2.0
METHOD:PUBLISH
BEGIN:VTIMEZONE
TZID:Pacific/Midway
X-LIC-LOCATION:Pacific/Midway
BEGIN:STANDARD
TZOFFSETFROM:-1100
TZOFFSETTO:-1100
TZNAME:SST
DTSTART:19700101T000000
END:STANDARD
END:VTIMEZONE
BEGIN:VEVENT
UID:5385115:Event:9671
DTSTAMP:20260422T182746Z
SUMMARY:Public Session on the new open access policy at the University
  of Minho
DESCRIPTION:Public Session for the presentation and discussion of the 
 new open access policy that would establish the University of Minho\n\
 nFor more information visit http://legacy.openaccessweek.org/events/pu
 blic-session-on-the-new-open
DTSTART;TZID=Pacific/Midway:20101022T100000
DTEND;TZID=Pacific/Midway:20101022T130000
CATEGORIES:conference
LOCATION:University of Minho, Braga, Portugal
WEBSITE:http://www.sdum.uminho.pt/ModuleLeft.aspx?mdl=~/Modules/UMEven
 tos/EventoView.ascx&ItemID=3264&Mid=432&lang=pt-PT&pageid=3&tabid=0
URL:http://www.sdum.uminho.pt/ModuleLeft.aspx?mdl=~/Modules/UMEventos/
 EventoView.ascx&ItemID=3264&Mid=432&lang=pt-PT&pageid=3&tabid=0
CONTACT:
ORGANIZER:University of Minho, Eloy Rodrigues
ATTACH;FMTTYPE="image/jpeg":http://storage.ning.com/topology/rest/1.0/
 file/get/3057472730?profile=original
ATTENDEE;ROLE=REQ-PARTICIPANT;PARTSTAT=ACCEPTED;RSVP=TRUE;CN="yassine 
 gargouri":http://legacy.openaccessweek.org/profile/yassinegargouri
ATTENDEE;ROLE=REQ-PARTICIPANT;PARTSTAT=ACCEPTED;RSVP=TRUE;CN="Pedro Pr
 íncipe":http://legacy.openaccessweek.org/profile/PedroPrincipe
END:VEVENT
END:VCALENDAR
