BEGIN:VCALENDAR
PRODID:NingEventWidget-v1
VERSION:2.0
METHOD:PUBLISH
BEGIN:VTIMEZONE
TZID:Pacific/Midway
X-LIC-LOCATION:Pacific/Midway
BEGIN:STANDARD
TZOFFSETFROM:-1100
TZOFFSETTO:-1100
TZNAME:SST
DTSTART:19700101T000000
END:STANDARD
END:VTIMEZONE
BEGIN:VEVENT
UID:5385115:Event:185538
DTSTAMP:20260421T045934Z
SUMMARY:Prova il tasto modifica / Try the Edit Button
DESCRIPTION:A presentation about how Wikipedia works and how you can c
 ontribute. The presentation is promoted in the frame of Open Science S
 UPSI.\n// Italiano\nWikipedia è l’enciclopedia gratuita online fon
 te universale di informazioni e punto di partenza per ricerche in molt
 eplici campi: storia, geografia, filosofia, scienze, tecnologia, scien
 ze sociali, letteratura, arte, spettacolo, sport, biografie e altro an
 cora. Essendo collaborativa, tutti possono potenzialmente arricchirne 
 le pagine, mettendo a disposizione il proprio sapere. Come fare? Possi
 amo contribuire ad ampliare i contenuti in italiano, migliorare le inf
 ormazioni sul nostro territorio, inserire testi nuovi? Una serata intr
 oduttiva per conoscere i retroscena di questa potente piattaforma, con
  consigli ed esempi pratici di editing da parte di un’esperta.\nRela
 trice: Iolanda Pensa. Ricercatrice senior e responsabile del settore 
 di ricerca Cultura e Territorio del Laboratorio cultura visiva della S
 UPSI. Si occupa di sistemi di produzione e distribuzione del sapere. 
 \ncon la partecipazione di Ilario Valdelli (Wikimedia CH) e Catrin Vim
 ercati (Associazione InFormAzioni).\n\n\n\n\n\n\n\n\n\n\nFor more info
 rmation visit http://legacy.openaccessweek.org/events/prova-il-tasto-m
 odifica-try-the-edit-button
DTSTART;TZID=Pacific/Midway:20191023T200000
DTEND;TZID=Pacific/Midway:20191023T220000
CATEGORIES:conference
LOCATION:Switzerland
WEBSITE:
URL:
CONTACT:+41586883680
ORGANIZER:Iolanda Pensa, SUPSI
ATTACH;FMTTYPE="image/jpeg":https://storage.ning.com/topology/rest/1.0
 /file/get/3674060646?profile=original
ATTENDEE;ROLE=REQ-PARTICIPANT;PARTSTAT=ACCEPTED;RSVP=TRUE;CN="Iolanda 
 Pensa":http://legacy.openaccessweek.org/profile/IolandaPensa
END:VEVENT
END:VCALENDAR
