BEGIN:VCALENDAR
PRODID:NingEventWidget-v1
VERSION:2.0
METHOD:PUBLISH
BEGIN:VTIMEZONE
TZID:Pacific/Midway
X-LIC-LOCATION:Pacific/Midway
BEGIN:STANDARD
TZOFFSETFROM:-1100
TZOFFSETTO:-1100
TZNAME:SST
DTSTART:19700101T000000
END:STANDARD
END:VTIMEZONE
BEGIN:VEVENT
UID:5385115:Event:76085
DTSTAMP:20260420T234653Z
SUMMARY:“Primer curso sobre procesamiento de fascículos”
DESCRIPTION:El Sistema de Información Científica Redalyc, en el marc
 o de las actividades por la Semana de Acceso Abierto a través del dep
 artamento de Capacitación a Editores, organiza el Primer Curso sobre 
 Procesamiento de Fascículos, con el fin de consolidar un canal de com
 unicación con los editores de las revistas de su acervo, ofreciéndol
 es la oportunidad de procesar y publicar en línea sus fascículos a t
 ravés del Sistema Integral de Información Redalyc (SIIR).\n\nFor mor
 e information visit http://legacy.openaccessweek.org/events/primer-cur
 so-sobre-procesamiento-de-fasc-culos
DTSTART;TZID=Pacific/Midway:20121022T100000
DTEND;TZID=Pacific/Midway:20121025T140000
CATEGORIES:curso, de, capacitación, sobre, procesamiento, "fascículo
 s."
LOCATION:Toluca, México.
WEBSITE:http://redalyc.org
URL:http://redalyc.org
CONTACT:(722) 215 8370
ORGANIZER;CN="Rosario Rogel-Salazar":http://legacy.openaccessweek.org/
 profile/RosarioRogelSalazar
ATTACH;FMTTYPE="image/jpeg":
ATTENDEE;ROLE=REQ-PARTICIPANT;PARTSTAT=ACCEPTED;RSVP=TRUE;CN="Rosario 
 Rogel-Salazar":http://legacy.openaccessweek.org/profile/RosarioRogelSa
 lazar
END:VEVENT
END:VCALENDAR
