BEGIN:VCALENDAR
PRODID:NingEventWidget-v1
VERSION:2.0
METHOD:PUBLISH
BEGIN:VTIMEZONE
TZID:Pacific/Midway
X-LIC-LOCATION:Pacific/Midway
BEGIN:STANDARD
TZOFFSETFROM:-1100
TZOFFSETTO:-1100
TZNAME:SST
DTSTART:19700101T000000
END:STANDARD
END:VTIMEZONE
BEGIN:VEVENT
UID:5385115:Event:52953
DTSTAMP:20260423T014939Z
SUMMARY:Presentation of Open Access to  Video Academic Objects
DESCRIPTION:Within the framework of Open Access Week, the Universitat 
 Politècnica de València presents a new 2.0 initiative to expand th
 e dissemination of  academic video content from its scientific and
  academic repository Riunet (http://riunet.upv.es/).\n \nNow it is po
 ssible to found more than 1.600 of Riunet videos in Youtube (http://ww
 w.youtube.com/user/valenciaupv#p/p) and ItunesU (http://itunes.apple
 .com/institution/universidad-politecnica-valencia/id418580659) and we 
 are presenting it to the Media this week to emphasize our commitment
  to Open Access movement\n\nFor more information visit http://legacy
 .openaccessweek.org/events/presentation-of-open-access-to-video-academ
 ic-objects
DTSTART;TZID=Pacific/Midway:20111025T100000
DTEND;TZID=Pacific/Midway:20111028T180000
CATEGORIES:media, presentation
LOCATION:UPV
WEBSITE:http://asic.blogs.upv.es/servicios-multimedia/la-universitat-p
 olitecnica-de-valencia-publica-mas-de-1-600-videos-educativos-abiertos
 -en-internet/
URL:http://asic.blogs.upv.es/servicios-multimedia/la-universitat-polit
 ecnica-de-valencia-publica-mas-de-1-600-videos-educativos-abiertos-en-
 internet/
CONTACT:
ORGANIZER:ASIC UPV
ATTACH;FMTTYPE="image/jpeg":
ATTENDEE;ROLE=REQ-PARTICIPANT;PARTSTAT=ACCEPTED;RSVP=TRUE;CN="Ignacio 
 Despujol Zabala":http://legacy.openaccessweek.org/profile/IgnacioDespu
 jolZabala
END:VEVENT
END:VCALENDAR
