BEGIN:VCALENDAR
PRODID:NingEventWidget-v1
VERSION:2.0
METHOD:PUBLISH
BEGIN:VTIMEZONE
TZID:Pacific/Midway
X-LIC-LOCATION:Pacific/Midway
BEGIN:STANDARD
TZOFFSETFROM:-1100
TZOFFSETTO:-1100
TZNAME:SST
DTSTART:19700101T000000
END:STANDARD
END:VTIMEZONE
BEGIN:VEVENT
UID:5385115:Event:100437
DTSTAMP:20260423T104737Z
SUMMARY:Preparing to submit your PhD thesis to PEARL
DESCRIPTION:Since 1st October 2010, it has been Plymouth University po
 licy that all PhD students must submit an electronic copy of their PhD
  thesis to PEARL, Plymouth University's research repository. This work
 shop covers how to prepare the electronic copy including copyright and
  then how to submit to PEARL.\n\nFor more information visit http://leg
 acy.openaccessweek.org/events/preparing-to-submit-your-phd-thesis-to-p
 earl
DTSTART;TZID=Pacific/Midway:20131024T100000
DTEND;TZID=Pacific/Midway:20131024T110000
CATEGORIES:workshop
LOCATION:Plymouth University Rolle 304
WEBSITE:
URL:
CONTACT:
ORGANIZER:Nicola Cockarill, TIS
ATTACH;FMTTYPE="image/jpeg":
ATTENDEE;ROLE=REQ-PARTICIPANT;PARTSTAT=ACCEPTED;RSVP=TRUE;CN="Nicola C
 ockarill":http://legacy.openaccessweek.org/profile/NicolaCockarill
END:VEVENT
END:VCALENDAR
