BEGIN:VCALENDAR
PRODID:NingEventWidget-v1
VERSION:2.0
METHOD:PUBLISH
BEGIN:VTIMEZONE
TZID:Pacific/Midway
X-LIC-LOCATION:Pacific/Midway
BEGIN:STANDARD
TZOFFSETFROM:-1100
TZOFFSETTO:-1100
TZNAME:SST
DTSTART:19700101T000000
END:STANDARD
END:VTIMEZONE
BEGIN:VEVENT
UID:5385115:Event:134576
DTSTAMP:20260422T190635Z
SUMMARY:Posterausstellung Open Access
DESCRIPTION:Auf verschiedenen Postern informieren wir rund um das Them
 a Open Access und stellen entsprechende Dienstleistungen der Leibniz U
 niversität Hannover und TIB/UB vor.\nTIB/UB Hannover, Haus 1, Welfeng
 arten 1B\n\nFor more information visit http://legacy.openaccessweek.or
 g/events/posterausstellung-open-access
DTSTART;TZID=Pacific/Midway:20151019T080000
DTEND;TZID=Pacific/Midway:20151024T220000
CATEGORIES:poster, exhibition
LOCATION:Germany
WEBSITE:http://www.tib.uni-hannover.de/
URL:http://www.tib.uni-hannover.de/
CONTACT:
ORGANIZER;CN="Stefan Schmeja":http://legacy.openaccessweek.org/profile
 /StefanSchmeja
ATTACH;FMTTYPE="image/jpeg":
ATTENDEE;ROLE=REQ-PARTICIPANT;PARTSTAT=ACCEPTED;RSVP=TRUE;CN="Stefan S
 chmeja":http://legacy.openaccessweek.org/profile/StefanSchmeja
END:VEVENT
END:VCALENDAR
