BEGIN:VCALENDAR
PRODID:NingEventWidget-v1
VERSION:2.0
METHOD:PUBLISH
BEGIN:VTIMEZONE
TZID:Pacific/Midway
X-LIC-LOCATION:Pacific/Midway
BEGIN:STANDARD
TZOFFSETFROM:-1100
TZOFFSETTO:-1100
TZNAME:SST
DTSTART:19700101T000000
END:STANDARD
END:VTIMEZONE
BEGIN:VEVENT
UID:5385115:Event:48041
DTSTAMP:20260422T225815Z
SUMMARY:¿Por qué publicar en abierto? El desafío de la difusión ab
 ierta de las obras y los derechos de autor en las instituciones acadé
 micas.
DESCRIPTION:Jornadas en el marco de la Semana del Acceso Abierto de pa
 rte del Servicio de Difusión de la Creación Intelectual (SeDiCI), re
 positorio institucional de la Universidad Nacional de La Plata. \n \
 nDisertantes:\nMarie Claire Lima, Especialista en derechos de autor.\n
 Ing. Marisa De Giusti, Directora del SeDiCI.\nJorge Defelitto y Albert
 o Cariello, editores y autores del libro Cirugía. Bases clínicas y 
 terapéuticas.\nAnalía Pinto (Editora)\nStaff del SeDiCI\n \nWebcast
  en directo:\nhttp://www.livestream.com/sedici_unlp\n\n\nFor more info
 rmation visit http://legacy.openaccessweek.org/events/por-qu-publicar-
 en-abierto-el-desaf-o-de-la-difusi-n-abierta-de
DTSTART;TZID=Pacific/Midway:20111025T100000
DTEND;TZID=Pacific/Midway:20111025T190000
CATEGORIES:charla, exposición, debate
LOCATION:Rectorado - Universidad Nacional de La Plata
WEBSITE:http://sedici.unlp.edu.ar
URL:http://sedici.unlp.edu.ar
CONTACT:
ORGANIZER:SeDiCI - Servicio de Difusión de la Creación Intelectual
ATTACH;FMTTYPE="image/jpeg":http://storage.ning.com/topology/rest/1.0/
 file/get/3057479870?profile=original
ATTENDEE;ROLE=REQ-PARTICIPANT;PARTSTAT=ACCEPTED;RSVP=TRUE;CN=SEDICI:ht
 tp://legacy.openaccessweek.org/profile/SeDiCI
END:VEVENT
END:VCALENDAR
