BEGIN:VCALENDAR
PRODID:NingEventWidget-v1
VERSION:2.0
METHOD:PUBLISH
BEGIN:VTIMEZONE
TZID:Pacific/Midway
X-LIC-LOCATION:Pacific/Midway
BEGIN:STANDARD
TZOFFSETFROM:-1100
TZOFFSETTO:-1100
TZNAME:SST
DTSTART:19700101T000000
END:STANDARD
END:VTIMEZONE
BEGIN:VEVENT
UID:5385115:Event:175313
DTSTAMP:20260420T095531Z
SUMMARY:Paywall: The Business of Scholarship Movie Screening and Guide
 d Discussion
DESCRIPTION:Arthur Lakes Library invites Colorado School of Mines Comm
 unity to watch the documentary Paywall: The Business of Scholarship to
 gether and have a guided discussion about the movie hosted by Ye Li, S
 cholarly Communications Librarian, and Emily Bongiovanni, Instruction 
 and Research Librarian. Free lunch provided! \n\nFor more information
  visit http://legacy.openaccessweek.org/events/paywall-the-business-of
 -scholarship-movie-screening-amp-guided
DTSTART;TZID=Pacific/Midway:20181023T120000
DTEND;TZID=Pacific/Midway:20181023T133000
CATEGORIES:movie, screening
LOCATION:United States of America
WEBSITE:http://libguides.mines.edu/OAW2018
URL:http://libguides.mines.edu/OAW2018
CONTACT:
ORGANIZER:Arthur Lakes Library, Colorado School of Mines
ATTACH;FMTTYPE="image/jpeg":http://storage.ning.com/topology/rest/1.0/
 file/get/3057615996?profile=original
ATTENDEE;ROLE=REQ-PARTICIPANT;PARTSTAT=ACCEPTED;RSVP=TRUE;CN="Ye Li":h
 ttp://legacy.openaccessweek.org/profile/YeLi
END:VEVENT
END:VCALENDAR
