BEGIN:VCALENDAR
PRODID:NingEventWidget-v1
VERSION:2.0
METHOD:PUBLISH
BEGIN:VTIMEZONE
TZID:Pacific/Midway
X-LIC-LOCATION:Pacific/Midway
BEGIN:STANDARD
TZOFFSETFROM:-1100
TZOFFSETTO:-1100
TZNAME:SST
DTSTART:19700101T000000
END:STANDARD
END:VTIMEZONE
BEGIN:VEVENT
UID:5385115:Event:174186
DTSTAMP:20260421T014017Z
SUMMARY:Paywall: The Business of Scholarship
DESCRIPTION:Join us for a FREE screening of Paywall: the business of 
 scholarship at ACMI X on Wednesday 24 October at 6pm. Ticket reserv
 ations are essential. \nPaywall: the business of scholarship is a do
 cumentary which focuses on the need for open access to research and s
 cience, questions the rationale behind the $25.2 billion a year that f
 lows into for-profit academic publishers, examines the 35-40% profit m
 argin associated with the top academic publisher Elsevier and looks at
  how that profit margin is often greater than some of the most profita
 ble tech companies like Apple, Facebook and Google. \nProgram:\n6pm: 
 Doors open, drinks and nibbles\n6.50pm: Introductions\n7pm: Film begin
 s (104 minute run time)\n8.45pm: Drinks\n9.15pm: Close\nGetting there:
 \nACMI X is located on Level 4 at the Australian Ballet Centre on Kava
 nagh St, Southbank.\nThe street address is a bit tricky, but there is 
 a ramp behind the Arts centre (with the spire) over to level 4 and dir
 ectly into the venue - it is much easier to get there that way if com
 ing from the city. Alternatively, you can enter via Kavanagh St.\nACM
 I X is wheelchair accessible, including bathrooms in the Ballet Centre
 .\nAPO Forum 2018:\nThis event is the prelude to the APO Forum 2018 
 on 25 October.\n\nFor more information visit http://legacy.openaccessw
 eek.org/events/paywall-the-business-of-scholarship-2
DTSTART;TZID=Pacific/Midway:20181024T180000
DTEND;TZID=Pacific/Midway:20181024T211500
CATEGORIES:film, screening
LOCATION:15
WEBSITE:https://goo.gl/maps/2MmSMAqCfnL2
URL:https://goo.gl/maps/2MmSMAqCfnL2
CONTACT:03 9214 5609
ORGANIZER;CN=APO:http://legacy.openaccessweek.org/profile/EmilySilvest
 er
ATTACH;FMTTYPE="image/jpeg":http://storage.ning.com/topology/rest/1.0/
 file/get/3057615287?profile=original
ATTENDEE;ROLE=REQ-PARTICIPANT;PARTSTAT=ACCEPTED;RSVP=TRUE;CN=APO:http:
 //legacy.openaccessweek.org/profile/EmilySilvester
END:VEVENT
END:VCALENDAR
