BEGIN:VCALENDAR
PRODID:NingEventWidget-v1
VERSION:2.0
METHOD:PUBLISH
BEGIN:VTIMEZONE
TZID:Pacific/Midway
X-LIC-LOCATION:Pacific/Midway
BEGIN:STANDARD
TZOFFSETFROM:-1100
TZOFFSETTO:-1100
TZNAME:SST
DTSTART:19700101T000000
END:STANDARD
END:VTIMEZONE
BEGIN:VEVENT
UID:5385115:Event:173379
DTSTAMP:20260422T220106Z
SUMMARY:Paywall: The Business of Scholarship
DESCRIPTION:FilmScene (118 East College Street, Iowa City, IA 52240)\n
 UI Libraries is hosting a free screening of the new documentary, \"Pay
 wall: The Business of Scholarship,\" which focuses on the need for op
 en access to research and science, questions the rationale behind the 
 $25.2 billion a year that flows into for-profit academic publishers, e
 xamines the 35-40% profit margin associated with the top academic publ
 isher Elsevier and looks at how that profit margin is often greater th
 an some of the most profitable tech companies like Apple, Facebook and
  Google. Everyone is invited!\n\n\nFor more information visit http://l
 egacy.openaccessweek.org/events/paywall-the-business-of-scholarship-1
DTSTART;TZID=Pacific/Midway:20181025T120000
DTEND;TZID=Pacific/Midway:20181025T140000
CATEGORIES:movie, screening
LOCATION:United States of America
WEBSITE:https://prod3.agileticketing.net/websales/pages/info.aspx?evti
 nfo=403085~4635cd47-f165-4de0-b43c-56acafd02482&amp;
URL:https://prod3.agileticketing.net/websales/pages/info.aspx?evtinfo=
 403085~4635cd47-f165-4de0-b43c-56acafd02482&amp;
CONTACT:
ORGANIZER:Mahrya Burnett
ATTACH;FMTTYPE="image/jpeg":http://storage.ning.com/topology/rest/1.0/
 file/get/3057611694?profile=original
ATTENDEE;ROLE=REQ-PARTICIPANT;PARTSTAT=ACCEPTED;RSVP=TRUE;CN="Mahrya C
 arncross":http://legacy.openaccessweek.org/profile/MahryaCarncross358
END:VEVENT
END:VCALENDAR
