BEGIN:VCALENDAR
PRODID:NingEventWidget-v1
VERSION:2.0
METHOD:PUBLISH
BEGIN:VTIMEZONE
TZID:Pacific/Midway
X-LIC-LOCATION:Pacific/Midway
BEGIN:STANDARD
TZOFFSETFROM:-1100
TZOFFSETTO:-1100
TZNAME:SST
DTSTART:19700101T000000
END:STANDARD
END:VTIMEZONE
BEGIN:VEVENT
UID:5385115:Event:159914
DTSTAMP:20260423T154348Z
SUMMARY:Paywall: A Conversation about the Business of Scholarship with
  Filmmaker Jason Schmitt
DESCRIPTION:We are celebrating Open Access Week by joining award-winni
 ng filmmaker Jason Schmitt as we screen and discuss footage from his i
 n-progress documentary Paywall: The Business of Scholarship. Schmitt w
 ill be accompanied in the discussion by a panel of faculty who will sh
 are their views on making the results of academic research freely acce
 ssible online.  Co-sponsored by UConn Humanities Institute\n\nFor mor
 e information visit http://legacy.openaccessweek.org/events/paywall-a-
 conversation-about-the-business-of-scholarship-with
DTSTART;TZID=Pacific/Midway:20171025T143000
DTEND;TZID=Pacific/Midway:20171025T160000
CATEGORIES:film, "screening/lecture"
LOCATION:United States of America
WEBSITE:http://blogs.lib.uconn.edu/news/uconn-celebrates-open-access-w
 eek/#.WeDn2miPJaQ
URL:http://blogs.lib.uconn.edu/news/uconn-celebrates-open-access-week/
 #.WeDn2miPJaQ
CONTACT:860-486-6346
ORGANIZER;CN="Jean Nelson":http://legacy.openaccessweek.org/profile/Je
 anNelson
ATTACH;FMTTYPE="image/jpeg":http://storage.ning.com/topology/rest/1.0/
 file/get/3057593993?profile=original
ATTENDEE;ROLE=REQ-PARTICIPANT;PARTSTAT=ACCEPTED;RSVP=TRUE;CN="Jean Nel
 son":http://legacy.openaccessweek.org/profile/JeanNelson
END:VEVENT
END:VCALENDAR
