BEGIN:VCALENDAR
PRODID:NingEventWidget-v1
VERSION:2.0
METHOD:PUBLISH
BEGIN:VTIMEZONE
TZID:Pacific/Midway
X-LIC-LOCATION:Pacific/Midway
BEGIN:STANDARD
TZOFFSETFROM:-1100
TZOFFSETTO:-1100
TZNAME:SST
DTSTART:19700101T000000
END:STANDARD
END:VTIMEZONE
BEGIN:VEVENT
UID:5385115:Event:50203
DTSTAMP:20260419T145529Z
SUMMARY:Parallel publishing: researchers' motivations and experiences
DESCRIPTION:What motivates researchers to make their work available op
 en access? And what are their experiences of parallel publishing? Moa 
 Hedbrant (SLU Library) present her thesis \"Impact can come in many gu
 ises\" : en kvalitativ studie om forskares erfarenheter av parallellpu
 blicering. SLU researchers Serina Ahlgren (Dept. of Energy and Technol
 ogy), Thomas Kätterer and Holger Kirchmann (Dept. of Soil and Environ
 ment) share their experiences.\n\nFor more information visit http://le
 gacy.openaccessweek.org/events/parallel-publishing-researchers-motivat
 ions-and-experiences
DTSTART;TZID=Pacific/Midway:20111026T121500
DTEND;TZID=Pacific/Midway:20111026T131500
CATEGORIES:seminar
LOCATION:Uppsala, Alnarp, Umeå, Skara
WEBSITE:http://www.slu.se/en/library/publish/openaccess/open-access-we
 ek-2011/events-during-oa-week/
URL:http://www.slu.se/en/library/publish/openaccess/open-access-week-2
 011/events-during-oa-week/
CONTACT:
ORGANIZER;CN="Urban Ericsson":http://legacy.openaccessweek.org/profile
 /UrbanEricsson
ATTACH;FMTTYPE="image/jpeg":
ATTENDEE;ROLE=REQ-PARTICIPANT;PARTSTAT=ACCEPTED;RSVP=TRUE;CN="Urban Er
 icsson":http://legacy.openaccessweek.org/profile/UrbanEricsson
END:VEVENT
END:VCALENDAR
