BEGIN:VCALENDAR
PRODID:NingEventWidget-v1
VERSION:2.0
METHOD:PUBLISH
BEGIN:VTIMEZONE
TZID:Pacific/Midway
X-LIC-LOCATION:Pacific/Midway
BEGIN:STANDARD
TZOFFSETFROM:-1100
TZOFFSETTO:-1100
TZNAME:SST
DTSTART:19700101T000000
END:STANDARD
END:VTIMEZONE
BEGIN:VEVENT
UID:5385115:Event:176028
DTSTAMP:20260421T224015Z
SUMMARY:Panel Discussion on Equitable Access to Knowledge
DESCRIPTION:\nThe DST- Centre for Policy Research at the Indian Instit
 ute of Science is pleased to invite you to a very stimulatingPanel Di
 scussion on “Equitable Access to Knowledge”\nVenue: Faculty Hall, 
 Indian Institute of Science, Bangalore, IndiaDate : 23 Oct 2018 (Tuesd
 ay) | Time : 16:00 ISTPanelists:Arul George Scaria - National Law Univ
 ersity, DelhiCarl Malamud - Public.Resource.OrgPranesh Prakash (Mode
 rator)  -  Centre for Internet and Society, BangaloreRichard Poynder
  - Journalist (covering OA movement around the world) S Nayana Tara -
  Indian Institute of Management BangaloreShahid Jameel - Welcome Trust
  DBT India Alliance RSVP: https://goo.gl/rLqhnw \nLive Streaming: 
 https://goo.gl/NdN44x\nThis event is a part of International Open Acce
 ss week activities planned at IISc Bangalore, organized by DST-Centre 
 for Policy Research at IISc. \n\n\nFor more information visit http://
 legacy.openaccessweek.org/events/panel-discussion-on-equitable-access-
 to-knowledge
DTSTART;TZID=Pacific/Midway:20181023T160000
DTEND;TZID=Pacific/Midway:20181023T173000
CATEGORIES:panel, discussion
LOCATION:India
WEBSITE:http://dstcpriisc.org/2018/10/18/panel-discussion-on-open-acce
 ss-23-oct-2018/
URL:http://dstcpriisc.org/2018/10/18/panel-discussion-on-open-access-2
 3-oct-2018/
CONTACT:+91 7395892064
ORGANIZER:DST Centre for Policy Research, IISc
ATTACH;FMTTYPE="image/jpeg":http://storage.ning.com/topology/rest/1.0/
 file/get/3057619061?profile=original
ATTENDEE;ROLE=REQ-PARTICIPANT;PARTSTAT=ACCEPTED;RSVP=TRUE;CN="Subbiah 
 Arunachalam":http://legacy.openaccessweek.org/profile/SubbiahArunachal
 am
END:VEVENT
END:VCALENDAR
