BEGIN:VCALENDAR
PRODID:NingEventWidget-v1
VERSION:2.0
METHOD:PUBLISH
BEGIN:VTIMEZONE
TZID:Pacific/Midway
X-LIC-LOCATION:Pacific/Midway
BEGIN:STANDARD
TZOFFSETFROM:-1100
TZOFFSETTO:-1100
TZNAME:SST
DTSTART:19700101T000000
END:STANDARD
END:VTIMEZONE
BEGIN:VEVENT
UID:5385115:Event:207139
DTSTAMP:20260420T234628Z
SUMMARY:ORCID ID - my personal ID in the scientific world
DESCRIPTION:guests: Paloma Marín-Arraiza (ORCID) and Antonia Schra
 der (ORCID DE) Moderation: Steff Bentrup und Dr. Tim Boxhammer \n(Ge
 rman / English)\nThe Open Researcher and Contributor ID, ORCID for sho
 rt, is a unique, persistent identifier for researchers.. Our guests Pa
 loma Marín-Arraiza and Antonia Schrader from ORCID Inc. and ORCID DE 
 explain us: what ORCID iDs are exactly how they support scientific pra
 ctice and why we are working on a national and international level to 
 promote and develop this service.. Your chance to ask questions? Direc
 tly afterwards!\n\nFor more information visit http://legacy.openaccess
 week.org/events/orcid-id-my-personal-id-in-the-scientific-world
DTSTART;TZID=Pacific/Midway:20201023T140000
DTEND;TZID=Pacific/Midway:20201023T143000
CATEGORIES:"coffee lecture"
LOCATION:Germany
WEBSITE:https://blog.sub.uni-hamburg.de/?p=30056
URL:https://blog.sub.uni-hamburg.de/?p=30056
CONTACT:
ORGANIZER;CN="SUB Hamburg Open Science Unit":http://legacy.openaccessw
 eek.org/profile/SUBHamburgOpenAccess
ATTACH;FMTTYPE="image/jpeg":
ATTENDEE;ROLE=REQ-PARTICIPANT;PARTSTAT=ACCEPTED;RSVP=TRUE;CN="SUB Hamb
 urg Open Science Unit":http://legacy.openaccessweek.org/profile/SUBHam
 burgOpenAccess
END:VEVENT
END:VCALENDAR
