BEGIN:VCALENDAR
PRODID:NingEventWidget-v1
VERSION:2.0
METHOD:PUBLISH
BEGIN:VTIMEZONE
TZID:Pacific/Midway
X-LIC-LOCATION:Pacific/Midway
BEGIN:STANDARD
TZOFFSETFROM:-1100
TZOFFSETTO:-1100
TZNAME:SST
DTSTART:19700101T000000
END:STANDARD
END:VTIMEZONE
BEGIN:VEVENT
UID:5385115:Event:113107
DTSTAMP:20260420T232024Z
SUMMARY:OpenStreetMap Edit-a-thon
DESCRIPTION:OpenStreetMap (OSM), aka the Free Wiki World Map, is an op
 enly licensed map of the world being created by volunteers. Contributo
 rs use local knowledge, aerial imagery, GPS devices, and low-tech fiel
 d maps to verify that OSM is accurate and up to date.  Learn how to u
 pdate your neighborhood on the map or help fix existing bugs by playin
 g MapRoulette.  Stop by anytime and start mapping.  Pizza (while it 
 lasts), drinks, tutorials, and support will be provided!\n\nFor more i
 nformation visit http://legacy.openaccessweek.org/events/openstreetmap
 -edit-a-thon
DTSTART;TZID=Pacific/Midway:20141023T120000
DTEND;TZID=Pacific/Midway:20141023T133000
CATEGORIES:"demo/practice", session
LOCATION:PCL 1.124
WEBSITE:
URL:
CONTACT:
ORGANIZER;CN="Colleen Lyon":http://legacy.openaccessweek.org/profile/C
 olleenLyon
ATTACH;FMTTYPE="image/jpeg":
ATTENDEE;ROLE=REQ-PARTICIPANT;PARTSTAT=ACCEPTED;RSVP=TRUE;CN="Colleen 
 Lyon":http://legacy.openaccessweek.org/profile/ColleenLyon
END:VEVENT
END:VCALENDAR
