BEGIN:VCALENDAR
PRODID:NingEventWidget-v1
VERSION:2.0
METHOD:PUBLISH
BEGIN:VTIMEZONE
TZID:Pacific/Midway
X-LIC-LOCATION:Pacific/Midway
BEGIN:STANDARD
TZOFFSETFROM:-1100
TZOFFSETTO:-1100
TZNAME:SST
DTSTART:19700101T000000
END:STANDARD
END:VTIMEZONE
BEGIN:VEVENT
UID:5385115:Event:76660
DTSTAMP:20260423T032451Z
SUMMARY:Openness and Tertiary Education Futures
DESCRIPTION:Professor Phil Long, Director of the Centre for Educationa
 l Innovation and Technology will present 'Openness and Tertiary Educat
 ion Futures'.\n\nFor more information visit http://legacy.openaccesswe
 ek.org/events/openness-and-tertiary-education-futures
DTSTART;TZID=Pacific/Midway:20121025T140000
DTEND;TZID=Pacific/Midway:20121025T150000
CATEGORIES:presentation
LOCATION:The University of Queensland, UQ Library,  Conference Room, L
 1 Duhig Building (Building 2)
WEBSITE:http://www.library.uq.edu.au/locations/duhig-building-level-1
URL:http://www.library.uq.edu.au/locations/duhig-building-level-1
CONTACT:617 3346 0605
ORGANIZER:UQ Library OA Team
ATTACH;FMTTYPE="image/jpeg":
ATTENDEE;ROLE=REQ-PARTICIPANT;PARTSTAT=ACCEPTED;RSVP=TRUE;CN="Lisa Kru
 esi":http://legacy.openaccessweek.org/profile/LisaKruesi
END:VEVENT
END:VCALENDAR
