BEGIN:VCALENDAR
PRODID:NingEventWidget-v1
VERSION:2.0
METHOD:PUBLISH
BEGIN:VTIMEZONE
TZID:Pacific/Midway
X-LIC-LOCATION:Pacific/Midway
BEGIN:STANDARD
TZOFFSETFROM:-1100
TZOFFSETTO:-1100
TZNAME:SST
DTSTART:19700101T000000
END:STANDARD
END:VTIMEZONE
BEGIN:VEVENT
UID:5385115:Event:292080
DTSTAMP:20260423T060812Z
SUMMARY:Openess at Chemnitz University of Technology
DESCRIPTION:As part of Open Access Week 2021 Chemnitz University Libra
 ry is organizing different highlights.\nWe will have an online discuss
 ion with our scientists to share publication experiences. A poster exh
 ibition and a video will inform about Open Science and the development
  of a cooperative network at Chemnitz University of Technology.\nThe l
 ibrary team invites authors to publish Open Access on the Green Way.\n
 Eventsite University Library\n\nFor more information visit http://lega
 cy.openaccessweek.org/events/openess-at-chemnitz-university-of-technol
 ogy
DTSTART;TZID=Pacific/Midway:20211022T000000
DTEND;TZID=Pacific/Midway:20211031T235900
CATEGORIES:video, discussion, blogposts
LOCATION:Germany
WEBSITE:
URL:
CONTACT:
ORGANIZER:
ATTACH;FMTTYPE="image/jpeg":https://storage.ning.com/topology/rest/1.0
 /file/get/9726691298?profile=original
ATTENDEE;ROLE=REQ-PARTICIPANT;PARTSTAT=ACCEPTED;RSVP=TRUE;CN="Ute Blum
 tritt":http://legacy.openaccessweek.org/profile/UteBlumtritt
END:VEVENT
END:VCALENDAR
