BEGIN:VCALENDAR
PRODID:NingEventWidget-v1
VERSION:2.0
METHOD:PUBLISH
BEGIN:VTIMEZONE
TZID:Pacific/Midway
X-LIC-LOCATION:Pacific/Midway
BEGIN:STANDARD
TZOFFSETFROM:-1100
TZOFFSETTO:-1100
TZNAME:SST
DTSTART:19700101T000000
END:STANDARD
END:VTIMEZONE
BEGIN:VEVENT
UID:5385115:Event:209940
DTSTAMP:20260421T050938Z
SUMMARY:Opendata.swiss - The first webinar about the Swiss national po
 rtal opendata.swiss (event in Italian dedicated to Ticino Canton publi
 c data)
DESCRIPTION:opendata.swiss in Ticino\n23 ottobre 2020 Webinar - 11.30 
 - 12.30\nIl primo webinar sul portale nazionale opendata.swiss dedicat
 o alle pubbliche amministrazioni ticinesi\n\nUn webinar dedicato allaÂ
  condivisione di open government data su opendata.swiss,Â il portale n
 azionale di libero accesso ai dati della pubblica amministrazione sviz
 zera.  Nel 2018, la Â«Strategia sul libero accesso ai dati pubblici in
  Svizzera 2019â€“2023Â» ha portato allo sviluppo di un repository cent
 ralizzato nazionale per mettere a disposizione della collettivitÃ  dat
 i aperti provenienti da autoritÃ  federali, cantonali e comunali con l
 o scopo di favorire il riutilizzo delle informazioni da parte delle or
 ganizzazioni interessate.  Due anni dopo sul portale nazionale opendat
 a.swiss convergonoÂ 7526 dataset, 82 organizzazioni pubbliche, 24 cate
 gorie tematiche e 46 vetrine di esposizione (showcases)Â delle modalit
 Ã  di riutilizzo dei dataset da parte di cittadini, istituzioni e iniz
 iative pubbliche e private che grazie a questo portale hanno potuto ag
 gregare i dati per darne vita nuova attraverso visualizzazioni grafich
 e e interattive, siti web, applicazioni mobile.  Nonostante nel Canton
 e Ticino si stia assistendo ad una graduale apertura dei dati da parte
  delle pubbliche amministrazioni, la presenza di organizzazioni ticine
 si che pubblicano sul opendata.swiss risulta ancora limitata.\n\n\nFor
  more information visit http://legacy.openaccessweek.org/events/openda
 ta-swiss-the-first-webinar-about-the-swiss-national-portal
DTSTART;TZID=Pacific/Midway:20201023T113000
DTEND;TZID=Pacific/Midway:20201023T123000
CATEGORIES:webinar, about, open, data
LOCATION:Switzerland
WEBSITE:http://bit.ly/opendata-swiss
URL:http://bit.ly/opendata-swiss
CONTACT:
ORGANIZER;CN="Iolanda Pensa":http://legacy.openaccessweek.org/profile/
 IolandaPensa
ATTACH;FMTTYPE="image/jpeg":
ATTENDEE;ROLE=REQ-PARTICIPANT;PARTSTAT=ACCEPTED;RSVP=TRUE;CN="OLGA VOR
 FOLOMEYEVA":http://legacy.openaccessweek.org/profile/OLGAVORFOLOMEYEVA
ATTENDEE;ROLE=REQ-PARTICIPANT;PARTSTAT=ACCEPTED;RSVP=TRUE;CN="Iolanda 
 Pensa":http://legacy.openaccessweek.org/profile/IolandaPensa
END:VEVENT
END:VCALENDAR
