BEGIN:VCALENDAR
PRODID:NingEventWidget-v1
VERSION:2.0
METHOD:PUBLISH
BEGIN:VTIMEZONE
TZID:Pacific/Midway
X-LIC-LOCATION:Pacific/Midway
BEGIN:STANDARD
TZOFFSETFROM:-1100
TZOFFSETTO:-1100
TZNAME:SST
DTSTART:19700101T000000
END:STANDARD
END:VTIMEZONE
BEGIN:VEVENT
UID:5385115:Event:176244
DTSTAMP:20260421T024339Z
SUMMARY:Open U-MED
DESCRIPTION:The Information and Library Centre of the Medical Universi
 ty of Lodz organizes a seminar on opening the university.\n\nFor more 
 information visit http://legacy.openaccessweek.org/events/open-u-med
DTSTART;TZID=Pacific/Midway:20181022T100000
DTEND;TZID=Pacific/Midway:20181022T123000
CATEGORIES:seminar
LOCATION:Poland
WEBSITE:http://cib.umed.lodz.pl/seminarium-otwarty-umed/
URL:http://cib.umed.lodz.pl/seminarium-otwarty-umed/
CONTACT:
ORGANIZER:The Information and Library Centre of the Medical Universit
 y in Lodz
ATTACH;FMTTYPE="image/jpeg":
ATTENDEE;ROLE=REQ-PARTICIPANT;PARTSTAT=ACCEPTED;RSVP=TRUE;CN="Marzena 
 Marcinek":http://legacy.openaccessweek.org/profile/MarzenaMarcinek
END:VEVENT
END:VCALENDAR
