BEGIN:VCALENDAR
PRODID:NingEventWidget-v1
VERSION:2.0
METHOD:PUBLISH
BEGIN:VTIMEZONE
TZID:Pacific/Midway
X-LIC-LOCATION:Pacific/Midway
BEGIN:STANDARD
TZOFFSETFROM:-1100
TZOFFSETTO:-1100
TZNAME:SST
DTSTART:19700101T000000
END:STANDARD
END:VTIMEZONE
BEGIN:VEVENT
UID:5385115:Event:47271
DTSTAMP:20260420T232030Z
SUMMARY:Open Textbooks and Open Educational Resources: A Discussion
DESCRIPTION:Discussion facilitators: Prof. Ken Baldauf – Director, P
 rogram in Interdisciplinary Computing; Roxann Williams - Special Proje
 cts Librarian, College of Medicine; Micah Vandegrift - Scholarly Commu
 nications Project Manager\n \nThis discussion will focus on the issue
 s of textbook costs and open textbooks or open educational resources a
 s alternative methods of knowledge delivery. The facilitators will off
 er ideas and guide the discussion, and we hope students and attendees 
 come with their own ideas on this complicated topic. \n\nFor more inf
 ormation visit http://legacy.openaccessweek.org/events/open-textbooks-
 and-open-educational-resources-a-discussion
DTSTART;TZID=Pacific/Midway:20111027T150000
DTEND;TZID=Pacific/Midway:20111027T163000
CATEGORIES:discussion
LOCATION:Florida State University - Oglesby Student Union Room 315
WEBSITE:http://g.co/maps/6v8n9
URL:http://g.co/maps/6v8n9
CONTACT:850-645-9597
ORGANIZER;CN="Micah Vandegrift":http://legacy.openaccessweek.org/profi
 le/MicahVandegrift
ATTACH;FMTTYPE="image/jpeg":
ATTENDEE;ROLE=REQ-PARTICIPANT;PARTSTAT=ACCEPTED;RSVP=TRUE;CN="Micah Va
 ndegrift":http://legacy.openaccessweek.org/profile/MicahVandegrift
END:VEVENT
END:VCALENDAR
