BEGIN:VCALENDAR
PRODID:NingEventWidget-v1
VERSION:2.0
METHOD:PUBLISH
BEGIN:VTIMEZONE
TZID:Pacific/Midway
X-LIC-LOCATION:Pacific/Midway
BEGIN:STANDARD
TZOFFSETFROM:-1100
TZOFFSETTO:-1100
TZNAME:SST
DTSTART:19700101T000000
END:STANDARD
END:VTIMEZONE
BEGIN:VEVENT
UID:5385115:Event:174192
DTSTAMP:20260422T053449Z
SUMMARY:Open Software: Project Jupyter
DESCRIPTION:Speaker Talks\nSponsored byÂ Countway Library, Department 
 of Biomedical Informatics, Harvard Program in Therapeutic Science (HiT
 S)\nProject Jupyter has developed and supported the interactive comput
 ing products Jupyter Notebook, Jupyter Hub, and Jupyter Lab.\nThe Jupy
 ter Notebook is an open-source web application that allows you to crea
 te and share documents that contain live code, equations, visualizatio
 ns and narrative text. NotebooksÂ support interactive data science and
  scientific computing across all programming languages via the develop
 ment of open-source software.\nJoin your colleaguesÂ for a few demonst
 rations onÂ how open source software and technologies are being used t
 oÂ promoteÂ transparency, reusability, and reproducibility.Â \nSpeaker
 s:\n\nJeremy Muhlich,Â Research Associate, Deputy Director of Modeling
  and Informatics, Laboratory of Systems Pharmacology, Harvard Program 
 in Therapeutic Science\nKartik Subramanian, PhD, Postdoctoral Fellow,Â
  Laboratory of Systems Pharmacology, Harvard Program in Therapuetic Sc
 iences\nGregoire Versmee, MD, MPH, Research Fellow in Biomedical Infor
 matics, Avillach Lab,Â Department of Biomedical Informatics\nLaura Ver
 smee, MD,Â Research Fellow in Biomedical Informatics, Avillach Lab,Â D
 epartment of Biomedical Informatics\n\n\nFor more information visit ht
 tp://legacy.openaccessweek.org/events/open-software-project-jupyter
DTSTART;TZID=Pacific/Midway:20181023T140000
DTEND;TZID=Pacific/Midway:20181023T160000
CATEGORIES:speaker, event
LOCATION:United States of America
WEBSITE:https://datamanagement.hms.harvard.edu/event/open-software
URL:https://datamanagement.hms.harvard.edu/event/open-software
CONTACT:
ORGANIZER;CN="Julie Goldman":http://legacy.openaccessweek.org/profile/
 JulieGoldman704
ATTACH;FMTTYPE="image/jpeg":http://storage.ning.com/topology/rest/1.0/
 file/get/3057612856?profile=original
ATTENDEE;ROLE=REQ-PARTICIPANT;PARTSTAT=ACCEPTED;RSVP=TRUE;CN="Julie Go
 ldman":http://legacy.openaccessweek.org/profile/JulieGoldman704
END:VEVENT
END:VCALENDAR
