BEGIN:VCALENDAR
PRODID:NingEventWidget-v1
VERSION:2.0
METHOD:PUBLISH
BEGIN:VTIMEZONE
TZID:Pacific/Midway
X-LIC-LOCATION:Pacific/Midway
BEGIN:STANDARD
TZOFFSETFROM:-1100
TZOFFSETTO:-1100
TZNAME:SST
DTSTART:19700101T000000
END:STANDARD
END:VTIMEZONE
BEGIN:VEVENT
UID:5385115:Event:132781
DTSTAMP:20260420T163411Z
SUMMARY:Open Science Workshop
DESCRIPTION:International Open Access Week Event University of Helsink
 i, Minerva Plaza\nGet your feet wet in Open Science! Discover best pra
 ctices in research data management, consult an international data serv
 ice team, gain a hands-on experience in green Open Access, get yoursel
 f an ORCID profile, present your own research topic, bring your own da
 ta for description and sharing, and get helpful tips. Sign up to the O
 pen Science Workshop at the inspiring and flexible Minerva Plaza learn
 ing environment and participate in the co-creation of Open Science.\n\
 nFor more information visit http://legacy.openaccessweek.org/events/op
 en-science-workshop
DTSTART;TZID=Pacific/Midway:20151020T000000
DTEND;TZID=Pacific/Midway:20151020T235900
CATEGORIES:workshop
LOCATION:Finland
WEBSITE:https://wiki.helsinki.fi/display/OAviikko/Open+Science+Worksho
 p+20.10.2015
URL:https://wiki.helsinki.fi/display/OAviikko/Open+Science+Workshop+20
 .10.2015
CONTACT:
ORGANIZER:Helsinki University Library
ATTACH;FMTTYPE="image/jpeg":http://storage.ning.com/topology/rest/1.0/
 file/get/3057557544?profile=original
ATTENDEE;ROLE=REQ-PARTICIPANT;PARTSTAT=ACCEPTED;RSVP=TRUE;CN="Kimmo Ko
 skinen":http://legacy.openaccessweek.org/profile/KimmoKoskinen
END:VEVENT
END:VCALENDAR
