BEGIN:VCALENDAR
PRODID:NingEventWidget-v1
VERSION:2.0
METHOD:PUBLISH
BEGIN:VTIMEZONE
TZID:Pacific/Midway
X-LIC-LOCATION:Pacific/Midway
BEGIN:STANDARD
TZOFFSETFROM:-1100
TZOFFSETTO:-1100
TZNAME:SST
DTSTART:19700101T000000
END:STANDARD
END:VTIMEZONE
BEGIN:VEVENT
UID:5385115:Event:74304
DTSTAMP:20260419T102557Z
SUMMARY:Open Science: what is it for me
DESCRIPTION:The workshop is organized by Kaunas University of Technolo
 gy in partnership with The Lithuanian Society of Young Researchers, Th
 e Association of Lithuanian Serials, The Lithuanian Research Library C
 onsortium  implementing EIFL funded project “Open Access from the P
 erspective of Young Researchers ”. The objectives of the workshop -
  to familiarize young researchers with the open science idea, encoura
 ge them to be active open access advocates in the country. http://www.
 lmba.lt/atviroji-prieiga/renginiai\n\nFor more information visit http:
 //legacy.openaccessweek.org/events/open-science-what-is-it-for-me
DTSTART;TZID=Pacific/Midway:20121018T150000
DTEND;TZID=Pacific/Midway:20121018T181500
CATEGORIES:workshop
LOCATION:Kaunas University of Technology
WEBSITE:http://goo.gl/maps/b53lz
URL:http://goo.gl/maps/b53lz
CONTACT:
ORGANIZER;CN="Gintare Tautkeviciene":http://legacy.openaccessweek.org/
 profile/GintareTautkeviciene
ATTACH;FMTTYPE="image/jpeg":
ATTENDEE;ROLE=REQ-PARTICIPANT;PARTSTAT=ACCEPTED;RSVP=TRUE;CN="Gintare 
 Tautkeviciene":http://legacy.openaccessweek.org/profile/GintareTautkev
 iciene
END:VEVENT
END:VCALENDAR
