BEGIN:VCALENDAR
PRODID:NingEventWidget-v1
VERSION:2.0
METHOD:PUBLISH
BEGIN:VTIMEZONE
TZID:Pacific/Midway
X-LIC-LOCATION:Pacific/Midway
BEGIN:STANDARD
TZOFFSETFROM:-1100
TZOFFSETTO:-1100
TZNAME:SST
DTSTART:19700101T000000
END:STANDARD
END:VTIMEZONE
BEGIN:VEVENT
UID:5385115:Event:185672
DTSTAMP:20260421T050406Z
SUMMARY:Open Science SUPSI 2019
DESCRIPTION:Open Science SUPSI 2019\nA training session about open acc
 ess and open data for researchers and students. The training session i
 s introduced by a presentation about the implementation of Open Scienc
 e in Switzerland.\n// Italiano\nEvento Open Science SUPSI 2019\nGioved
 ì 24 ottobre 2019 dalle 14.00 alle 16.30 presso Stabile Piazzetta, D
 EASS - Aula 122 si svolgerà l’evento Open Science SUPSI 2019 con u
 na formazione su Open Data e riviste Open Access\nIn occasione della s
 ettimana internazionale Open Access, si svolgerà giovedì 24 ottobr
 e 2019 un evento aperto a tutto il personale e studenti SUPSI. Verrann
 o presentati aggiornamenti sull’implementazione dell’Open Science 
 alla SUPSI e a livello nazionale. La seconda parte dell’evento sara
  dedicata alla formazione su Open Data e le riviste Open Access.\nDat
 a: Giovedì 24 ottobre 2019 Orario: dalle 14.00 alle 16.30 Sede: Piaz
 zetta, DEASS Via Violino 11, Manno - Aula 122\nProgramma\n14.00-14.10 
 Open Science in SUPSI Giambattista Ravano, Direttore delegato per la r
 icerca e l’innovazione SUPSI.\n14.10-14.20 Progetti pilota di Open S
 cience SUPSI Iolanda Pensa, Ricercatrice senior Laboratorio Cultura Vi
 siva – DACD SUPSI.\n14.20-14.50 Piano d’azione svizzero per l’Op
 en Science (in inglese) Patrick Furrer, Coordinatore del programma “
 Informazione scientifica” (P-5) di swissuniversities.\n14.50-15.50 C
 ome gestire i dati di una ricerca scientifica e come scegliere una riv
 ista Open Access Alessandro Pierno, Firenze University Press e redatto
 re associato della Directory of Open Access Journals (DOAJ).\n15.50-16
 .30 Domande e affiancamento sui progetti pilota di Open Science SUPSI.
 \nÈ gradita l’iscrizione (entro il 23 ottobre) al seguente link: h
 ttp://form-gen.app.supsi.ch/form/view.php?id=90065 Per informazioni: S
 UPSI, Servizio Ricerca e Innovazione. E-mail: ricerca@supsi.ch\n\n\n\n
 \nFor more information visit http://legacy.openaccessweek.org/events/o
 pen-science-supsi-2019
DTSTART;TZID=Pacific/Midway:20191024T140000
DTEND;TZID=Pacific/Midway:20191024T163000
CATEGORIES:training, conference
LOCATION:Switzerland
WEBSITE:http://www.openscience.supsi.ch/
URL:http://www.openscience.supsi.ch/
CONTACT:
ORGANIZER:SUPSI
ATTACH;FMTTYPE="image/jpeg":https://storage.ning.com/topology/rest/1.0
 /file/get/3674072139?profile=original
ATTENDEE;ROLE=REQ-PARTICIPANT;PARTSTAT=ACCEPTED;RSVP=TRUE;CN="Iolanda 
 Pensa":http://legacy.openaccessweek.org/profile/IolandaPensa
END:VEVENT
END:VCALENDAR
