BEGIN:VCALENDAR
PRODID:NingEventWidget-v1
VERSION:2.0
METHOD:PUBLISH
BEGIN:VTIMEZONE
TZID:Pacific/Midway
X-LIC-LOCATION:Pacific/Midway
BEGIN:STANDARD
TZOFFSETFROM:-1100
TZOFFSETTO:-1100
TZNAME:SST
DTSTART:19700101T000000
END:STANDARD
END:VTIMEZONE
BEGIN:VEVENT
UID:5385115:Event:176846
DTSTAMP:20260422T201344Z
SUMMARY:Open Science - open seminar
DESCRIPTION:The Library of Warmia & Mazury University in Olsztyn invit
 es for an open seminar \"Open Science\". The topics to be included: op
 en scholarly resources (searching), CC licenses (copyright), predatory
  publishers (publishing). Additionally, during the whole OA Week the L
 ibrary Facebook presents information about OA. All the users with e-ma
 ils in the university domain get \"A Guide to Open Science\" (in Polis
 h) - a compendium of practical information and a list of useful resour
 ces.\n\nFor more information visit http://legacy.openaccessweek.org/ev
 ents/open-science-open-seminar
DTSTART;TZID=Pacific/Midway:20181025T113000
DTEND;TZID=Pacific/Midway:20181025T130000
CATEGORIES:seminar
LOCATION:Poland
WEBSITE:
URL:
CONTACT:
ORGANIZER:The Warmia &amp; Mazury University Library
ATTACH;FMTTYPE="image/jpeg":
ATTENDEE;ROLE=REQ-PARTICIPANT;PARTSTAT=TENTATIVE;RSVP=TRUE;CN="Jennie 
 Hooper":http://legacy.openaccessweek.org/profile/JennieHooper
END:VEVENT
END:VCALENDAR
