BEGIN:VCALENDAR
PRODID:NingEventWidget-v1
VERSION:2.0
METHOD:PUBLISH
BEGIN:VTIMEZONE
TZID:Pacific/Midway
X-LIC-LOCATION:Pacific/Midway
BEGIN:STANDARD
TZOFFSETFROM:-1100
TZOFFSETTO:-1100
TZNAME:SST
DTSTART:19700101T000000
END:STANDARD
END:VTIMEZONE
BEGIN:VEVENT
UID:5385115:Event:146133
DTSTAMP:20260420T215149Z
SUMMARY:Open Science on the Move
DESCRIPTION:The topic of open access has moved well beyond opening up 
 publications and research data. Additional to those important ways of 
 sharing lies a more integrated approach, generally known as open scien
 ce. The striving for transparency, public availability and reuseabilit
 y has made some enthusiastic advocates for Open Science. But what are 
 the possibilities and challenges? And how to apply Open Science in yo
 ur research workflow ?\n\nFor more information visit http://legacy.ope
 naccessweek.org/events/open-science-on-the-move
DTSTART;TZID=Pacific/Midway:20161024T080000
DTEND;TZID=Pacific/Midway:20161025T160000
CATEGORIES:open, access, week, conference
LOCATION:Belgium
WEBSITE:https://openaccess.be/2016/09/16/register-for-open-science-on-
 the-move/
URL:https://openaccess.be/2016/09/16/register-for-open-science-on-the-
 move/
CONTACT:
ORGANIZER:University Librarians of Belgium
ATTACH;FMTTYPE="image/jpeg":http://storage.ning.com/topology/rest/1.0/
 file/get/3057579897?profile=original
ATTENDEE;ROLE=REQ-PARTICIPANT;PARTSTAT=ACCEPTED;RSVP=TRUE;CN="Uyttenho
 ef Sébastien":http://legacy.openaccessweek.org/profile/UyttenhoefSeba
 stien
ATTENDEE;ROLE=REQ-PARTICIPANT;PARTSTAT=TENTATIVE;RSVP=TRUE;CN="Jana Ko
 stelec":http://legacy.openaccessweek.org/profile/JanaKostelec
END:VEVENT
END:VCALENDAR
