BEGIN:VCALENDAR
PRODID:NingEventWidget-v1
VERSION:2.0
METHOD:PUBLISH
BEGIN:VTIMEZONE
TZID:Pacific/Midway
X-LIC-LOCATION:Pacific/Midway
BEGIN:STANDARD
TZOFFSETFROM:-1100
TZOFFSETTO:-1100
TZNAME:SST
DTSTART:19700101T000000
END:STANDARD
END:VTIMEZONE
BEGIN:VEVENT
UID:5385115:Event:183101
DTSTAMP:20260422T111418Z
SUMMARY:Open Science and Open Access Publishing: Equity in Open Knowle
 dge
DESCRIPTION:In recognition of Open Access Week and Media and Informati
 on Literacy Week, the UNESCO Chair on Cyberspace & Culture and the Fac
 ulty of World Studies of University of Tehran organize “Open Science
  and Open Access Publishing: Equity in Open Knowledge” workshop on M
 onday, 21 October 2019.\nThis workshop covers some components of open 
 science, remarks the challenges specific to open access, and illustrat
 es the ways in which the new technology and tools can improve research
  in terms of collaboration, efficiency, and productivity.\nIn this wor
 kshop, Alireza Salehi Nejad elaborates on the concept of open science,
  what encourages authors to choose open access publishing, and explore
 s whether there are any specific points to consider when opting for OA
  publishing.\nThe workshop participants will further their comprehensi
 on of open access with a clear understanding of the potential matters 
 they should consider when it comes to open access publishing.\nThis ev
 ent is endorsed by\n\nCenter for Open Science\nCyberspace Research Pol
 icy Center\nFigshare\nInternational Association of Communication in He
 althcare\nIranian World Studies Association\nMendeley\nUNESCO Chair on
  E-Learning & Teaching\nUNESCO Chair on the Communication of Science &
  Technology\n\n \nLearning outcomes and the topics of presentation:\n
 \nWhat is open access?\nOA journals\nOA archives or repositories\nOA b
 ooks\n\n\nWhy does open access matter?\nHighly effective research data
 \nBenefits of open access\n\n\nThe main routes to open access\nOA lice
 nses\nArticle sharing policy\nCopyright\nThe legal fine print\n\n\nOpe
 n access in the humanities and social sciences\nA report on the analys
 is of open data\n\n\nOpen access funding\nHow academicians and institu
 tions can promote open access\n\nDate: Monday, 21 October 2018\nTime: 
 13:00\nVenue: Iran Hall, Faculty of World Studies, Northern Campus of 
 University of Tehran, between 15th & 16th St., Northern Amir Abad, Teh
 ran, Iran\nAbout the speaker:\nAlireza Salehi Nejad is a researcher at
  the Cyberspace Research Policy Center at the Faculty of World Studies
  of University of Tehran, a veteran reviewer and an Associate Editor o
 f DOAJ, who has an extensive experience of collaborating with publishe
 rs and open access journals.\n\n\nFor more information visit http://le
 gacy.openaccessweek.org/events/open-science-and-open-access-publishing
 -equity-in-open-knowledge
DTSTART;TZID=Pacific/Midway:20191021T130000
DTEND;TZID=Pacific/Midway:20191021T150000
CATEGORIES:workshop
LOCATION:Iran
WEBSITE:https://goo.gl/maps/1jXLciwE7jXqoMkS8
URL:https://goo.gl/maps/1jXLciwE7jXqoMkS8
CONTACT:
ORGANIZER;CN="Alireza Salehi Nejad":http://legacy.openaccessweek.org/p
 rofile/AlirezaSalehiNejad
ATTACH;FMTTYPE="image/jpeg":https://storage.ning.com/topology/rest/1.0
 /file/get/3508137996?profile=original
ATTENDEE;ROLE=REQ-PARTICIPANT;PARTSTAT=ACCEPTED;RSVP=TRUE;CN="Alireza 
 Salehi Nejad":http://legacy.openaccessweek.org/profile/AlirezaSalehiNe
 jad
END:VEVENT
END:VCALENDAR
