BEGIN:VCALENDAR
PRODID:NingEventWidget-v1
VERSION:2.0
METHOD:PUBLISH
BEGIN:VTIMEZONE
TZID:Pacific/Midway
X-LIC-LOCATION:Pacific/Midway
BEGIN:STANDARD
TZOFFSETFROM:-1100
TZOFFSETTO:-1100
TZNAME:SST
DTSTART:19700101T000000
END:STANDARD
END:VTIMEZONE
BEGIN:VEVENT
UID:5385115:Event:99216
DTSTAMP:20260425T125053Z
SUMMARY:Open Robotics and 3D Printing Demo
DESCRIPTION:Speaker: Jon Nakane and Students from the Engineering Phys
 ics Project Lab\n\nPrototyping tools are available on campus for stude
 nts looking to fabricate their ideas into physical objects. On display
  will be physical prototypes from UBC Engineering Physics and other lo
 cal groups making use of waterjet cutters, 3d printers, laser cutte
 rs and other tools to put together physical prototypes for academic c
 ourses, capstone projects and extracurricular teams.\n\nFor more infor
 mation visit http://legacy.openaccessweek.org/events/open-robotics-and
 -3d-printing-demo
DTSTART;TZID=Pacific/Midway:20131022T150000
DTEND;TZID=Pacific/Midway:20131022T160000
CATEGORIES:presentation
LOCATION:University of British Columbia
WEBSITE:http://oaweek.open.ubc.ca/2013/09/14/open-robotics-and-3d-prin
 ting-demo/
URL:http://oaweek.open.ubc.ca/2013/09/14/open-robotics-and-3d-printing
 -demo/
CONTACT:
ORGANIZER:University of British Columbia Library
ATTACH;FMTTYPE="image/jpeg":http://storage.ning.com/topology/rest/1.0/
 file/get/3057522787?profile=original
ATTENDEE;ROLE=REQ-PARTICIPANT;PARTSTAT=ACCEPTED;RSVP=TRUE;CN="Open UBC
 ":http://legacy.openaccessweek.org/profile/TraceyVantyghem
END:VEVENT
END:VCALENDAR
