BEGIN:VCALENDAR
PRODID:NingEventWidget-v1
VERSION:2.0
METHOD:PUBLISH
BEGIN:VTIMEZONE
TZID:Pacific/Midway
X-LIC-LOCATION:Pacific/Midway
BEGIN:STANDARD
TZOFFSETFROM:-1100
TZOFFSETTO:-1100
TZNAME:SST
DTSTART:19700101T000000
END:STANDARD
END:VTIMEZONE
BEGIN:VEVENT
UID:5385115:Event:148320
DTSTAMP:20260421T022641Z
SUMMARY:Open in action: Skill Exchange
DESCRIPTION:Bring a skill and learn a skill or skills! This workshop p
 rovides an excellent opportunity for researchers to learn more about h
 ow to utilize open access in their research. Experts will give short
  presentations on topics related to open access, such as how to publi
 sh in an open access journal and how to understand licences. Participa
 nts will then have the opportunity to share their skills and knowledge
  with their colleagues.\n\nFor more information visit http://legacy.op
 enaccessweek.org/events/open-in-action-skill-exchange
DTSTART;TZID=Pacific/Midway:20161025T140000
DTEND;TZID=Pacific/Midway:20161025T160000
CATEGORIES:open, access, week
LOCATION:Australia
WEBSITE:https://www.eventbrite.com.au/e/open-in-action-skill-exchange-
 tickets-28409392257
URL:https://www.eventbrite.com.au/e/open-in-action-skill-exchange-tick
 ets-28409392257
CONTACT:
ORGANIZER:Queensland University of Technology Library Research Support
ATTACH;FMTTYPE="image/jpeg":
ATTENDEE;ROLE=REQ-PARTICIPANT;PARTSTAT=ACCEPTED;RSVP=TRUE;CN="Jessica 
 Stevens":http://legacy.openaccessweek.org/profile/JessicaStevens245
END:VEVENT
END:VCALENDAR
