BEGIN:VCALENDAR
PRODID:NingEventWidget-v1
VERSION:2.0
METHOD:PUBLISH
BEGIN:VTIMEZONE
TZID:Pacific/Midway
X-LIC-LOCATION:Pacific/Midway
BEGIN:STANDARD
TZOFFSETFROM:-1100
TZOFFSETTO:-1100
TZNAME:SST
DTSTART:19700101T000000
END:STANDARD
END:VTIMEZONE
BEGIN:VEVENT
UID:5385115:Event:148216
DTSTAMP:20260421T001920Z
SUMMARY:Open in action: Making openness in research a reality
DESCRIPTION:Associate Professor Adrian Barnett (QUT), Associate Prof
 essorBela Stantic (Griffith University) and Dr. Carlos Bustamante Di
 az(UQ) will provide an insight into why they have chosen to incorporat
 e open access into their research practice.  They will also discuss t
 he practicalities of open data and open access publishing for research
 ers. \n\nFor more information visit http://legacy.openaccessweek.org/
 events/open-in-action-making-openness-in-research-a-reality
DTSTART;TZID=Pacific/Midway:20161026T140000
DTEND;TZID=Pacific/Midway:20161026T160000
CATEGORIES:open, access, week
LOCATION:Australia
WEBSITE:https://www.eventbrite.com.au/e/open-in-action-making-openness
 -in-research-a-reality-tickets-28411349110
URL:https://www.eventbrite.com.au/e/open-in-action-making-openness-in-
 research-a-reality-tickets-28411349110
CONTACT:
ORGANIZER:Queensland University of Technology Library Research Support
ATTACH;FMTTYPE="image/jpeg":
ATTENDEE;ROLE=REQ-PARTICIPANT;PARTSTAT=ACCEPTED;RSVP=TRUE;CN="Jessica 
 Stevens":http://legacy.openaccessweek.org/profile/JessicaStevens245
END:VEVENT
END:VCALENDAR
